BEGIN:VCALENDAR
VERSION:2.0
PRODID:-//Single Volunteers of Greater Denver - ECPv6.15.20//NONSGML v1.0//EN
CALSCALE:GREGORIAN
METHOD:PUBLISH
X-ORIGINAL-URL:https://svgd.org
X-WR-CALDESC:Events for Single Volunteers of Greater Denver
REFRESH-INTERVAL;VALUE=DURATION:PT1H
X-Robots-Tag:noindex
X-PUBLISHED-TTL:PT1H
BEGIN:VTIMEZONE
TZID:America/Denver
BEGIN:DAYLIGHT
TZOFFSETFROM:-0700
TZOFFSETTO:-0600
TZNAME:MDT
DTSTART:20190310T090000
END:DAYLIGHT
BEGIN:STANDARD
TZOFFSETFROM:-0600
TZOFFSETTO:-0700
TZNAME:MST
DTSTART:20191103T080000
END:STANDARD
BEGIN:DAYLIGHT
TZOFFSETFROM:-0700
TZOFFSETTO:-0600
TZNAME:MDT
DTSTART:20200308T090000
END:DAYLIGHT
BEGIN:STANDARD
TZOFFSETFROM:-0600
TZOFFSETTO:-0700
TZNAME:MST
DTSTART:20201101T080000
END:STANDARD
BEGIN:DAYLIGHT
TZOFFSETFROM:-0700
TZOFFSETTO:-0600
TZNAME:MDT
DTSTART:20210314T090000
END:DAYLIGHT
BEGIN:STANDARD
TZOFFSETFROM:-0600
TZOFFSETTO:-0700
TZNAME:MST
DTSTART:20211107T080000
END:STANDARD
END:VTIMEZONE
BEGIN:VEVENT
DTSTART;TZID=America/Denver:20201027T174500
DTEND;TZID=America/Denver:20201027T194500
DTSTAMP:20260424T142525
CREATED:20201020T175748Z
LAST-MODIFIED:20201020T175816Z
UID:10000183-1603820700-1603827900@svgd.org
SUMMARY:Serving Dinner at the Delores Project Women's Safehouse
DESCRIPTION:5 Volunteers are needed. The Delores Project has made adjustments due to the pandemic to make us safe as well as the residents safe.  The kitchen and dining room are cleaned before and after each meal.  The dining room is arranged for social distancing and they only have a capacity of 32 and do regular COVID testing.  We will be wearing masks & will be provided disposable gloves.  Our group will just be in the kitchen and will be.  The food is provided\, we just need to heat it up and arrange it for the residents as they come through.  We will be serving the food but will be in the kitchen area (can eat dinner there also) so will not be touching the residents. So many of our volunteers have been requesting this event! We were able to assist them last month with lunch on a Saturday\, now we’ll be helping with dinner which may work for many of your schedules after work.  We have assisted this women’s safe shelter several times and they have asked us back as we have fantastic groups of volunteers. The shelter is in West Denver. This is a confidential location that is given out to the volunteers after registering due to the nature of the facility.  Both male & female volunteers are welcome to assist at this event.
URL:https://svgd.org/event/serving-dinner-at-the-delores-project-womens-safehouse/
LOCATION:Delores Project Women’s Safehouse\, Denver\, CO\, 80201\, United States
ORGANIZER;CN="SVGD":MAILTO:Event@svgd.org
END:VEVENT
END:VCALENDAR