BEGIN:VCALENDAR
VERSION:2.0
PRODID:-//Single Volunteers of Greater Denver - ECPv6.15.20//NONSGML v1.0//EN
CALSCALE:GREGORIAN
METHOD:PUBLISH
X-ORIGINAL-URL:https://svgd.org
X-WR-CALDESC:Events for Single Volunteers of Greater Denver
REFRESH-INTERVAL;VALUE=DURATION:PT1H
X-Robots-Tag:noindex
X-PUBLISHED-TTL:PT1H
BEGIN:VTIMEZONE
TZID:America/Denver
BEGIN:DAYLIGHT
TZOFFSETFROM:-0700
TZOFFSETTO:-0600
TZNAME:MDT
DTSTART:20250309T090000
END:DAYLIGHT
BEGIN:STANDARD
TZOFFSETFROM:-0600
TZOFFSETTO:-0700
TZNAME:MST
DTSTART:20251102T080000
END:STANDARD
BEGIN:DAYLIGHT
TZOFFSETFROM:-0700
TZOFFSETTO:-0600
TZNAME:MDT
DTSTART:20260308T090000
END:DAYLIGHT
BEGIN:STANDARD
TZOFFSETFROM:-0600
TZOFFSETTO:-0700
TZNAME:MST
DTSTART:20261101T080000
END:STANDARD
BEGIN:DAYLIGHT
TZOFFSETFROM:-0700
TZOFFSETTO:-0600
TZNAME:MDT
DTSTART:20270314T090000
END:DAYLIGHT
BEGIN:STANDARD
TZOFFSETFROM:-0600
TZOFFSETTO:-0700
TZNAME:MST
DTSTART:20271107T080000
END:STANDARD
END:VTIMEZONE
BEGIN:VEVENT
DTSTART;TZID=America/Denver:20260107T173000
DTEND;TZID=America/Denver:20260107T200000
DTSTAMP:20260423T140039
CREATED:20251213T160418Z
LAST-MODIFIED:20260102T192639Z
UID:10000386-1767807000-1767816000@svgd.org
SUMMARY:Serving Dinner at Delores Project Safehouse!
DESCRIPTION:Serving Dinner at the Delores Project Women’s Safehouse\, Wed. Jan. 7th\, 5:30-8 PM\, 6 Volunteers are needed. (This event is now on Waiting List status. If you sign up you will receive the automated response but will only be contacted with the details if there is a volunteer cancellation). This is a fantastic facility that assists homeless women who have been in challenging situations!  We can help bring some joy there while serving dinner & talking to residents as they come through the dinner line!  The food is provided\, we just need to heat it up and serve it to the residents as they come through the line.  In addition to serving the food we will eat dinner towards the end of our shift prior to packing up the food items for storage.  So many of our volunteers request this event!  We have assisted this women’s safe shelter several times through several years and they have asked us back as we have fantastic groups of volunteers. The shelter is in West Denver. This is a confidential location that is given out to the volunteers after registering due to the nature of the facility.  Both male & female volunteers are welcome to assist at this event.
URL:https://svgd.org/event/serving-dinner-at-delores-project-safehouse/
ORGANIZER;CN="SVGD":MAILTO:Event@svgd.org
END:VEVENT
BEGIN:VEVENT
DTSTART;TZID=America/Denver:20260110T083000
DTEND;TZID=America/Denver:20260110T120000
DTSTAMP:20260423T140039
CREATED:20251213T161824Z
LAST-MODIFIED:20260104T220918Z
UID:10000387-1768033800-1768046400@svgd.org
SUMMARY:Clothing Donation Sorting at Jeffco Action Center!
DESCRIPTION:Clothing Donation Sorting for Jeffco Action Center\, Sat.\,Jan. 10th\, 8:45AM-11:45AM. 6 Volunteers are needed to help sort the donated clothing for the busy week ahead.(This event is on Waiting List status. If you register you will receive the automated responses but will only be contacted if we get a volunteer cancellation.) We sort the clothing by size & type\, put the items on hangers\, and then they are hung in the store in the adjoining room. During the week people in need shop with volunteer shoppers in their donation “store” that is set up by sizes and types of clothing just like a regular store.  They are told how many items they can receive at the store and are given a time limit for their shopping. We have helped with this portion of their center’s activities before and really enjoyed the experience!! The Action Center’s mission is to provide an immediate response to basic human needs and promote pathways to self-sufficiency for Jefferson County residents and the homeless.  They are located in Lakewood.  I’m really happy that we are able to assist again as our volunteers always love this event!
URL:https://svgd.org/event/clothing-donation-sorting-at-jeffco-action-center/
ORGANIZER;CN="SVGD":MAILTO:Event@svgd.org
END:VEVENT
BEGIN:VEVENT
DTSTART;TZID=America/Denver:20260119T173000
DTEND;TZID=America/Denver:20260119T193000
DTSTAMP:20260423T140039
CREATED:20251206T221822Z
LAST-MODIFIED:20251217T163209Z
UID:10000385-1768843800-1768851000@svgd.org
SUMMARY:2026 SVGD Annual Meeting!
DESCRIPTION:2026 SVGD Annual Meeting\, Mon.\, Jan. 19th\, 5:30-7:30PM.  We will order dinner for all attendees at 6PM. At the meeting we will go over the year of 2025 as it relates to our events\, treasury\, etc. & will elect our 2025 Board of Directors\,   We will also have a group discussion re: the past year & the upcoming year of 2026.  We are excited to have a great upcoming year with fun & worthwhile events plus\, perhaps\, a celebration on our organization’s 20th anniversary which is coming up the end of April!  All paid SVGD members who joined by Dec. 20th\, 2025\, are allowed to vote. The event will be held at a restaurant that is near Broadway/Alameda as we did last year.  The exact address will be given after you register. Please register as soon as you can so I can let the restaurant know how many people to expect.  If you wish to vote but cannot attend please contact Kayla Okafor at 303-455-0244 or director@svgd.org to get a ballot so you can vote prior to the meeting. 
URL:https://svgd.org/event/2026-svgd-annual-meeting/
ORGANIZER;CN="SVGD":MAILTO:Event@svgd.org
END:VEVENT
BEGIN:VEVENT
DTSTART;TZID=America/Denver:20260124T100000
DTEND;TZID=America/Denver:20260124T140000
DTSTAMP:20260423T140039
CREATED:20260104T180814Z
LAST-MODIFIED:20260121T232311Z
UID:10000388-1769248800-1769263200@svgd.org
SUMMARY:Habitat for Humanity Denver ReStore!
DESCRIPTION:Habitat for Humanity ReStore\, Sat. Jan. 24th\, 10AM-2PM\, 6 Volunteers are needed. (This event is now on Waiting List status.  If you sign up you will receive the automated response but will only be contacted with the details if we get a cancellation.) We will be helping at the Denver ReStore which is one of our volunteers’ favorites. We’ve helped them many times previously.  We normally are helping to stock donations onto the shelves\, straighten up or rearrange some of the areas\, and sometimes help with accepting incoming donations & outgoing purchases. There is free parking and a lunch break.  Customers shop at the ReStore for new and gently used appliances\, furniture\, home remodeling supplies\, pictures\, and more at huge discounts.  Our volunteers get an extra discount if they see something they wish to purchase! All profits support Habitat for Humanity’s home ownership program for low-income families.  Habitat for Humanity of Metro Denver builds and sells homes to hard-working people in need of decent and affordable housing. Habitat for Humanity of Metro Denver is part of a global\, nonprofit housing organization that seeks to put God’s love into action by building homes\, communities and hope. 
URL:https://svgd.org/event/habitat-for-humanity-denver-restore-4/
ORGANIZER;CN="SVGD":MAILTO:Event@svgd.org
END:VEVENT
END:VCALENDAR