BEGIN:VCALENDAR
VERSION:2.0
PRODID:-//Single Volunteers of Greater Denver - ECPv6.15.20//NONSGML v1.0//EN
CALSCALE:GREGORIAN
METHOD:PUBLISH
X-ORIGINAL-URL:https://svgd.org
X-WR-CALDESC:Events for Single Volunteers of Greater Denver
REFRESH-INTERVAL;VALUE=DURATION:PT1H
X-Robots-Tag:noindex
X-PUBLISHED-TTL:PT1H
BEGIN:VTIMEZONE
TZID:America/Denver
BEGIN:DAYLIGHT
TZOFFSETFROM:-0700
TZOFFSETTO:-0600
TZNAME:MDT
DTSTART:20240310T090000
END:DAYLIGHT
BEGIN:STANDARD
TZOFFSETFROM:-0600
TZOFFSETTO:-0700
TZNAME:MST
DTSTART:20241103T080000
END:STANDARD
BEGIN:DAYLIGHT
TZOFFSETFROM:-0700
TZOFFSETTO:-0600
TZNAME:MDT
DTSTART:20250309T090000
END:DAYLIGHT
BEGIN:STANDARD
TZOFFSETFROM:-0600
TZOFFSETTO:-0700
TZNAME:MST
DTSTART:20251102T080000
END:STANDARD
BEGIN:DAYLIGHT
TZOFFSETFROM:-0700
TZOFFSETTO:-0600
TZNAME:MDT
DTSTART:20260308T090000
END:DAYLIGHT
BEGIN:STANDARD
TZOFFSETFROM:-0600
TZOFFSETTO:-0700
TZNAME:MST
DTSTART:20261101T080000
END:STANDARD
END:VTIMEZONE
BEGIN:VEVENT
DTSTART;TZID=America/Denver:20251213T100000
DTEND;TZID=America/Denver:20251213T160000
DTSTAMP:20260423T153801
CREATED:20251109T163105Z
LAST-MODIFIED:20251207T170546Z
UID:10000384-1765620000-1765641600@svgd.org
SUMMARY:Holiday Meal Team for Lavished with Love!
DESCRIPTION:Holiday Meal Team for Lavished with Love!\, Sat. Dec. 13\, 10AM-4PM  6 volunteers are needed. (This event is on Waiting List status.  If you sign up you will receive the automated response but will only be contacted with the event details if we get a volunteer cancellation).  This event is sponsored by the Iron Sharp Community Foundation.  The event will be held at an Aurora middle school. The mission is to support students & families experiencing challenges such as homelessness\, temporary living situations\, and living in poverty.  There will be a cozy\, family-style meal and also several provided resources such as brand-new winter coats\, a hot-chocolate station\, games\, etc. We will be the meal team doing some set up in the dining tables area & around it. Then\, we don’t cook the food but will be serving it in the serving line to the families\, and we’ll help straighten up the area when we’re done.  The goal of the event is to touch the lives & facilitate a wonderful experience for these families who wouldn’t be able to have a good Holiday meal\, especially in the present economic environment. We helped at this event the past two years and really enjoyed it! They sometimes have a free bicycle raffle & several children get bicycles that their families could not afford to buy!
URL:https://svgd.org/event/holiday-meal-team-for-lavished-with-love/
ORGANIZER;CN="SVGD":MAILTO:Event@svgd.org
END:VEVENT
END:VCALENDAR