BEGIN:VCALENDAR
VERSION:2.0
PRODID:-//Single Volunteers of Greater Denver - ECPv6.15.20//NONSGML v1.0//EN
CALSCALE:GREGORIAN
METHOD:PUBLISH
X-WR-CALNAME:Single Volunteers of Greater Denver
X-ORIGINAL-URL:https://svgd.org
X-WR-CALDESC:Events for Single Volunteers of Greater Denver
REFRESH-INTERVAL;VALUE=DURATION:PT1H
X-Robots-Tag:noindex
X-PUBLISHED-TTL:PT1H
BEGIN:VTIMEZONE
TZID:America/Denver
BEGIN:DAYLIGHT
TZOFFSETFROM:-0700
TZOFFSETTO:-0600
TZNAME:MDT
DTSTART:20240310T090000
END:DAYLIGHT
BEGIN:STANDARD
TZOFFSETFROM:-0600
TZOFFSETTO:-0700
TZNAME:MST
DTSTART:20241103T080000
END:STANDARD
BEGIN:DAYLIGHT
TZOFFSETFROM:-0700
TZOFFSETTO:-0600
TZNAME:MDT
DTSTART:20250309T090000
END:DAYLIGHT
BEGIN:STANDARD
TZOFFSETFROM:-0600
TZOFFSETTO:-0700
TZNAME:MST
DTSTART:20251102T080000
END:STANDARD
BEGIN:DAYLIGHT
TZOFFSETFROM:-0700
TZOFFSETTO:-0600
TZNAME:MDT
DTSTART:20260308T090000
END:DAYLIGHT
BEGIN:STANDARD
TZOFFSETFROM:-0600
TZOFFSETTO:-0700
TZNAME:MST
DTSTART:20261101T080000
END:STANDARD
END:VTIMEZONE
BEGIN:VEVENT
DTSTART;TZID=America/Denver:20251104T173000
DTEND;TZID=America/Denver:20251104T200000
DTSTAMP:20260423T171615
CREATED:20251019T142117Z
LAST-MODIFIED:20251028T201111Z
UID:10000381-1762277400-1762286400@svgd.org
SUMMARY:Serving Dinner at The Delores Project Safehouse!
DESCRIPTION:Serving Dinner at the Delores Project Women’s Safehouse\, Tues. Nov. 4th\, 5:30-8 PM\, 6 Volunteers are needed. (This event is now on Waiting List status.  If you sign up you will receive the automated responses but will only be contacted with the details if there is a volunteer cancellation). This is a fantastic facility that assists homeless women who have been in challenging situations!  We can help bring some joy there while serving dinner & talking to residents as they come through the dinner line!  The food is provided\, we just need to heat it up and serve it to the residents as they come through the line.  In addition to serving the food we will eat dinner towards the end of our shift prior to packing up the food items for storage.  So many of our volunteers request this event!  We have assisted this women’s safe shelter several times through several years and they have asked us back as we have fantastic groups of volunteers. The shelter is in West Denver. This is a confidential location that is given out to the volunteers after registering due to the nature of the facility.  Both male & female volunteers are welcome to assist at this event.
URL:https://svgd.org/event/serving-dinner-at-the-delores-project-safehouse/
ORGANIZER;CN="SVGD":MAILTO:Event@svgd.org
END:VEVENT
BEGIN:VEVENT
DTSTART;TZID=America/Denver:20251108T083000
DTEND;TZID=America/Denver:20251108T113000
DTSTAMP:20260423T171615
CREATED:20251026T151046Z
LAST-MODIFIED:20251026T151046Z
UID:10000382-1762590600-1762601400@svgd.org
SUMMARY:Clothing Donation Sorting for Jeffco Action Center!
DESCRIPTION:Clothing Donation Sorting for Jeffco Action Center\, Sat.\, Nov.8th\, 8:45AM-11:45AM. 6 Volunteers are needed to help sort the donated clothing for the busy week ahead. We sort the clothing by size & type\, put the items on hangers\, and then they are hung in the store in the adjoining room. During the week people in need shop with volunteer shoppers in their donation “store” that is set up by sizes and types of clothing just like a regular store.  They are told how many items they can receive at the store and are given a time limit for their shopping. We have helped with this portion of their center’s activities before and really enjoyed the experience!! The Action Center’s mission is to provide an immediate response to basic human needs and promote pathways to self-sufficiency for Jefferson County residents and the homeless.  They are located in Lakewood.  I’m really happy that we are able to assist again as our volunteers always love this event!
URL:https://svgd.org/event/clothing-donation-sorting-for-jeffco-action-center/
ORGANIZER;CN="SVGD":MAILTO:Event@svgd.org
END:VEVENT
BEGIN:VEVENT
DTSTART;TZID=America/Denver:20251122T100000
DTEND;TZID=America/Denver:20251122T120000
DTSTAMP:20260423T171615
CREATED:20251102T160611Z
LAST-MODIFIED:20251114T161522Z
UID:10000383-1763805600-1763812800@svgd.org
SUMMARY:Denver Feed-A-Family Thanksgiving Box Event!
DESCRIPTION:Denver Feed-A-Family\, Sat. Nov. 22nd\, 10AM-Noon\, 10 Volunteers are needed. (This event is on Waiting List status.  I am checking to see if they can use more volunteers.  If you sign up you will receive a confirmation but will only be emailed the info. if they can use more volunteers or we get a volunteer cancellation.)  We will be helping to pack food into the Thanksgiving boxes for the low-income families.  We will be working as a team. I’ve signed us up for the last shift so we’ll be able to see the families as they come to pick up their Food Boxes that will allow them to have a good Thanksgiving Dinner for their families. We did this event last year for the first time and really enjoyed ourselves!  This event is done in honor of Daddy Bruce Randolph who for years had a BBQ restaurant & gave food away for years so that thousands of people could have a good Thanksgiving.  The event is in the Central Denver area. This is a very worthwhile event that reflects their dedication to nourishing our city and embracing the diversity that makes it thrive.  Please sign up soon so I can get the names of our volunteers in our group to the organization.
URL:https://svgd.org/event/denver-feed-a-family-thanksgiving-box-event/
ORGANIZER;CN="SVGD":MAILTO:Event@svgd.org
END:VEVENT
END:VCALENDAR