BEGIN:VCALENDAR
VERSION:2.0
PRODID:-//Single Volunteers of Greater Denver - ECPv6.15.20//NONSGML v1.0//EN
CALSCALE:GREGORIAN
METHOD:PUBLISH
X-ORIGINAL-URL:https://svgd.org
X-WR-CALDESC:Events for Single Volunteers of Greater Denver
REFRESH-INTERVAL;VALUE=DURATION:PT1H
X-Robots-Tag:noindex
X-PUBLISHED-TTL:PT1H
BEGIN:VTIMEZONE
TZID:America/Denver
BEGIN:DAYLIGHT
TZOFFSETFROM:-0700
TZOFFSETTO:-0600
TZNAME:MDT
DTSTART:20240310T090000
END:DAYLIGHT
BEGIN:STANDARD
TZOFFSETFROM:-0600
TZOFFSETTO:-0700
TZNAME:MST
DTSTART:20241103T080000
END:STANDARD
BEGIN:DAYLIGHT
TZOFFSETFROM:-0700
TZOFFSETTO:-0600
TZNAME:MDT
DTSTART:20250309T090000
END:DAYLIGHT
BEGIN:STANDARD
TZOFFSETFROM:-0600
TZOFFSETTO:-0700
TZNAME:MST
DTSTART:20251102T080000
END:STANDARD
BEGIN:DAYLIGHT
TZOFFSETFROM:-0700
TZOFFSETTO:-0600
TZNAME:MDT
DTSTART:20260308T090000
END:DAYLIGHT
BEGIN:STANDARD
TZOFFSETFROM:-0600
TZOFFSETTO:-0700
TZNAME:MST
DTSTART:20261101T080000
END:STANDARD
END:VTIMEZONE
BEGIN:VEVENT
DTSTART;TZID=America/Denver:20251018T180000
DTEND;TZID=America/Denver:20251018T210000
DTSTAMP:20260423T184615
CREATED:20250923T223552Z
LAST-MODIFIED:20251003T151451Z
UID:10000379-1760810400-1760821200@svgd.org
SUMMARY:Maskpawrade Gala Fundraiser for MaxFund!
DESCRIPTION:Maskpawrade Gala fundraiser for MaxFund\, Sat. Oct. 18\, 6-9PM\,  5-7 volunteers needed. (This event is now on Waiting List status. If you sign up you will receive the automated response but will only be contacted with the event details if we have a volunteer cancellation).  We will be helping as their auction spotters at their gala! They will have 10-12 tables of guests & our volunteers will each watch a couple of tables to turn in the bids.  This is their annual gala to support the No Kill animal mission throughout Colorado including their Animal Adoption Center.  This year’s event will be held at the Four Seasons Hotel in Denver. This is a formal attire event (even for volunteers) and is a very exciting night with delicious food & live entertainment.
URL:https://svgd.org/event/maskpawrade-gala-fundraiser-for-maxfund/
ORGANIZER;CN="SVGD":MAILTO:Event@svgd.org
END:VEVENT
BEGIN:VEVENT
DTSTART;TZID=America/Denver:20251024T163000
DTEND;TZID=America/Denver:20251024T220000
DTSTAMP:20260423T184615
CREATED:20251009T205103Z
LAST-MODIFIED:20251019T225731Z
UID:10000380-1761323400-1761343200@svgd.org
SUMMARY:Trivia for Life benefiting the American Transplant Foundation!
DESCRIPTION:Trivia for Life benefiting the American Transplant Foundation\, Fri. Oct. 24th\, 4:45-10PM\, 7 Volunteers are needed. (This event is now on Waiting List status.  If you sign up you will receive an automated response but will only receive the details if we get a volunteer cancellation). This is the 20th anniversary of the largest fundraising event for The American Transplant Foundation. We have helped them several times and always enjoy the experience.  The event is located at The Cable Center near the University of Denver.  Our volunteers will be helping as Table/Trivia Game Assistants who help with the Trivia game set up/questions as well as assist at their Coat Check area.  This is a super-fun volunteer experience.  They are looking for enthusiastic volunteers to help everyone have a great time! Their mission is to save lives by reducing the growing list of women\, men\, & children who are waiting for a transplant by maximizing living organ donation.
URL:https://svgd.org/event/trivia-for-life-benefiting-the-american-transplant-foundation-2/
ORGANIZER;CN="SVGD":MAILTO:Event@svgd.org
END:VEVENT
END:VCALENDAR