BEGIN:VCALENDAR
VERSION:2.0
PRODID:-//Single Volunteers of Greater Denver - ECPv6.15.20//NONSGML v1.0//EN
CALSCALE:GREGORIAN
METHOD:PUBLISH
X-WR-CALNAME:Single Volunteers of Greater Denver
X-ORIGINAL-URL:https://svgd.org
X-WR-CALDESC:Events for Single Volunteers of Greater Denver
REFRESH-INTERVAL;VALUE=DURATION:PT1H
X-Robots-Tag:noindex
X-PUBLISHED-TTL:PT1H
BEGIN:VTIMEZONE
TZID:America/Denver
BEGIN:DAYLIGHT
TZOFFSETFROM:-0700
TZOFFSETTO:-0600
TZNAME:MDT
DTSTART:20240310T090000
END:DAYLIGHT
BEGIN:STANDARD
TZOFFSETFROM:-0600
TZOFFSETTO:-0700
TZNAME:MST
DTSTART:20241103T080000
END:STANDARD
BEGIN:DAYLIGHT
TZOFFSETFROM:-0700
TZOFFSETTO:-0600
TZNAME:MDT
DTSTART:20250309T090000
END:DAYLIGHT
BEGIN:STANDARD
TZOFFSETFROM:-0600
TZOFFSETTO:-0700
TZNAME:MST
DTSTART:20251102T080000
END:STANDARD
BEGIN:DAYLIGHT
TZOFFSETFROM:-0700
TZOFFSETTO:-0600
TZNAME:MDT
DTSTART:20260308T090000
END:DAYLIGHT
BEGIN:STANDARD
TZOFFSETFROM:-0600
TZOFFSETTO:-0700
TZNAME:MST
DTSTART:20261101T080000
END:STANDARD
END:VTIMEZONE
BEGIN:VEVENT
DTSTART;TZID=America/Denver:20250712T140000
DTEND;TZID=America/Denver:20250712T180000
DTSTAMP:20260423T231322
CREATED:20250622T162626Z
LAST-MODIFIED:20250706T184818Z
UID:10000364-1752328800-1752343200@svgd.org
SUMMARY:Crosscurrents River & Music Festival benefiting the Greenway Foundation!
DESCRIPTION:Sat.\, July 12th\, Crosscurrents River & Music  Festival\, 2-6PM\, 6 volunteers are  needed. We had a cancellation so still need one volunteer for this event!  The Crosscurrents Festival is in Confluence Park by the South Platte River.  We will be helping at the information/waiver booths helping with waivers\, raffle tickets\, & giving out general information. Since they have water activities and a kids zone with a rockclimbing wall we will help event attendees sign waivers\, get wristbands\, and navigate the event space.  Volunteers will receive 2 free drink & food tickets and a Tshirt. The event also has food trucks & live music from two stages all day and lasts until 10:00PM so you can stay and enjoy the activities if you wish.  The Greenway Foundation has been a non profit since 1974.  They have been leading efforts to reclaim the South Platte River and its tributaries from a virtual cesspool to a place of environmental and recreational pride.
URL:https://svgd.org/event/crosscurrents-river-music-festival-benefiting-the-greenway-foundation-2/
ORGANIZER;CN="SVGD":MAILTO:Event@svgd.org
END:VEVENT
BEGIN:VEVENT
DTSTART;TZID=America/Denver:20250719T100000
DTEND;TZID=America/Denver:20250719T140000
DTSTAMP:20260423T231322
CREATED:20250622T164303Z
LAST-MODIFIED:20250622T164303Z
UID:10000365-1752919200-1752933600@svgd.org
SUMMARY:Habitat for Humanity Denver ReStore!
DESCRIPTION:Habitat for Humanity ReStore\, Sat. July. 19th\, 10AM-2PM\, 6 Volunteers are needed. We will be helping at the Denver ReStore which is one of our volunteers’ favorites. We’ve helped them many times previously.  We normally are helping to stock donations onto the shelves\, straighten up or rearrange some of the areas\, and sometimes help with accepting incoming donations & outgoing purchases. There is free parking and a lunch break.  Customers shop at the ReStore for new and gently used appliances\, furniture\, home remodeling supplies\, pictures\, and more at huge discounts.  Our volunteers get an extra discount if they see something they wish to purchase! All profits support Habitat for Humanity’s home ownership program for low-income families.  Habitat for Humanity of Metro Denver builds and sells homes to hard-working people in need of decent and affordable housing. Habitat for Humanity of Metro Denver is part of a global\, nonprofit housing organization that seeks to put God’s love into action by building homes\, communities and hope. 
URL:https://svgd.org/event/habitat-for-humanity-denver-restore-3/
ORGANIZER;CN="SVGD":MAILTO:Event@svgd.org
END:VEVENT
BEGIN:VEVENT
DTSTART;TZID=America/Denver:20250721T170000
DTEND;TZID=America/Denver:20250721T203000
DTSTAMP:20260423T231322
CREATED:20250706T162031Z
LAST-MODIFIED:20250706T162031Z
UID:10000366-1753117200-1753129800@svgd.org
SUMMARY:Fundraising Dinner for Limb Preservation Foundation!
DESCRIPTION:Fundraising Dinner for Limb Preservation Foundation\, Mon. July 21st\, 5-8:30PM\, 5-7 volunteers are needed.  The Limb Preservation Foundation is having their 25th Annual Golf Classic during that afternoon at the Inverness Golf Club in Englewood.  Afterwards they are having a cocktail reception\, dinner\, & presentation.  We will be helping guests find their seats\, answering questions for their assigned tables\, and helping with paddle spotting.  Volunteers will receive a Tshirt and will have an area with food/snacks.  Funds raised from this event will go directly to supporting local folk at risk of amputation!  We’ve helped them previously with their worthy cause and they say they love working with our great volunteers!
URL:https://svgd.org/event/fundraising-dinner-for-limb-preservation-foundation/
ORGANIZER;CN="SVGD":MAILTO:Event@svgd.org
END:VEVENT
END:VCALENDAR