BEGIN:VCALENDAR
VERSION:2.0
PRODID:-//Single Volunteers of Greater Denver - ECPv6.15.20//NONSGML v1.0//EN
CALSCALE:GREGORIAN
METHOD:PUBLISH
X-ORIGINAL-URL:https://svgd.org
X-WR-CALDESC:Events for Single Volunteers of Greater Denver
REFRESH-INTERVAL;VALUE=DURATION:PT1H
X-Robots-Tag:noindex
X-PUBLISHED-TTL:PT1H
BEGIN:VTIMEZONE
TZID:America/Denver
BEGIN:DAYLIGHT
TZOFFSETFROM:-0700
TZOFFSETTO:-0600
TZNAME:MDT
DTSTART:20240310T090000
END:DAYLIGHT
BEGIN:STANDARD
TZOFFSETFROM:-0600
TZOFFSETTO:-0700
TZNAME:MST
DTSTART:20241103T080000
END:STANDARD
BEGIN:DAYLIGHT
TZOFFSETFROM:-0700
TZOFFSETTO:-0600
TZNAME:MDT
DTSTART:20250309T090000
END:DAYLIGHT
BEGIN:STANDARD
TZOFFSETFROM:-0600
TZOFFSETTO:-0700
TZNAME:MST
DTSTART:20251102T080000
END:STANDARD
BEGIN:DAYLIGHT
TZOFFSETFROM:-0700
TZOFFSETTO:-0600
TZNAME:MDT
DTSTART:20260308T090000
END:DAYLIGHT
BEGIN:STANDARD
TZOFFSETFROM:-0600
TZOFFSETTO:-0700
TZNAME:MST
DTSTART:20261101T080000
END:STANDARD
END:VTIMEZONE
BEGIN:VEVENT
DTSTART;TZID=America/Denver:20250614T084500
DTEND;TZID=America/Denver:20250614T113000
DTSTAMP:20260424T004443
CREATED:20250517T170602Z
LAST-MODIFIED:20250608T211237Z
UID:10000358-1749890700-1749900600@svgd.org
SUMMARY:Clothing Donation Sorting for the Jeffco Action Center!
DESCRIPTION:Clothing Donation Sorting for Jeffco Action Center\, Sat.\, June 14th\, 8:45AM-11:30AM. (This event is now on Waiting List status. If you sign up you will receive the automated responses but will only be contacted with the details if we have a volunteer cancellation.) 6 Volunteers are needed to help sort the donated clothing for the busy week ahead. We sort the clothing by size & type\, put the items on hangers\, and then they are hung in the store in the adjoining room. During the week people in need shop with volunteer shoppers in their donation “store” that is set up by sizes and types of clothing just like a regular store.  They are told how many items they can receive at the store and are given a time limit for their shopping. We have helped with this portion of their center’s activities before and really enjoyed the experience!! The Action Center’s mission is to provide an immediate response to basic human needs and promote pathways to self-sufficiency for Jefferson County residents and the homeless.  They are located in Lakewood.  I’m really happy that we are able to assist again as our volunteers always loved this event!
URL:https://svgd.org/event/clothing-donation-sorting-for-the-jeffco-action-center-2/
ORGANIZER;CN="SVGD":MAILTO:Event@svgd.org
END:VEVENT
BEGIN:VEVENT
DTSTART;TZID=America/Denver:20250621T130000
DTEND;TZID=America/Denver:20250621T163000
DTSTAMP:20260424T004443
CREATED:20250531T150226Z
LAST-MODIFIED:20250531T150226Z
UID:10000359-1750510800-1750523400@svgd.org
SUMMARY:Blues & BBQ Festival benefiting Habitat for Humanity!
DESCRIPTION:Edgewater Music Festival Blues & BBQ for Better Housing benefiting Habitat for Humanity\, Sat. June 21st\, 1:00-4:30PM\, 8 Volunteers are needed.  We will be in the VIP/Band tent where we will assist in welcoming & serving VIP guests\, ensuring a smooth experience with drinks & seating while maintaining a friendly\, professional atmosphere in the VIP tent. The event is being held at a park in Edgewater from 2PM-10PM but we will just be helping in the beginning.  Over the past years\, this festival has raised over $600\,000 for Habitat for Humanity.  You will receive a T-shirt and free entry to enjoy the music during your shift and headliner band after you finish your shift!   Water/Food will be provided.  It’s a great time for a good cause!! Habitat for Humanity brings people together to build homes\, communities\, and hope.  Their Vision is: A world where everyone has a decent place to live.
URL:https://svgd.org/event/blues-bbq-festival-benefiting-habitat-for-humanity/
ORGANIZER;CN="SVGD":MAILTO:Event@svgd.org
END:VEVENT
BEGIN:VEVENT
DTSTART;TZID=America/Denver:20250628T100000
DTEND;TZID=America/Denver:20250628T150000
DTSTAMP:20260424T004443
CREATED:20250531T195216Z
LAST-MODIFIED:20250606T141943Z
UID:10000360-1751104800-1751122800@svgd.org
SUMMARY:Fundraising Beverage Booth- PrideFest 1st Shift!
DESCRIPTION:Fundraising Beverage Booth at PrideFest-1st Shift\, Sat.\, June 28th\, 10AM-3PM\, 12 Volunteers are needed to run an alcohol booth. (This shift is now on Waiting List status.  Please consider one of the other 3 shifts. Otherwise you will only be contacted if we have a volunteer cancellation.) The event is in Civic Center Park.  In addition to helping the non-profit who gets the majority of the funds we will get paid money towards our fantastic organization so we can continue to operate.  SVGD needs funds annually in order to pay our insurance\, web hosting\, sponsor our MeetUp group for more volunteers\, etc.  We provide volunteers to approx. 50 non-profit events annually but do need to do a couple for us in order to continue providing this great service to the Metro Denver community.  We will be in charge of an alcohol booth\, which we’ve done for several years\, at this fun event with a percentage of the profits going to our organization as long as we provide the number of volunteers they need for the shift!  Since this is a big undertaking & a fundraiser\, non-SVGD members can also register.  We encourage our members to invite friends\, work associates\, and other non-profit associates to participate\, especially since we need so many volunteers for the 4 shifts.  If we don’t provide the number of volunteers to which we commit we don’t get paid!  When you sign up please let us know if you have other persons who could be volunteers and we will contact them or you can give us their info.  We always have a fantastic time!  It’s a colorful event with lots going on! We’re in a three sided booth with a counter and window that looks out at the colorful action.  It’s like watching TV!  What fun!!  PrideFest is the largest annual fundraiser annually for the LGBTQ Community Center of Colorado (The Center)\, a non-profit that serves more than 47\,000 people annually.  Recognized as one of the top ten pride events in the country\, Denver’s PrideFest is a celebration of community\, heritage\, family and culture. They are expecting around 500\,000 people from Colorado and surrounding areas come out to enjoy the parade\, rally\, music\, entertainment\, food and much more. The Center plays a pivotal role to reduce harassment & discrimination and provides programs & resources needed for the LGBTQ community to live happy\, healthy\, & productive lives.  Please join us as  we accomplish two objectives- supporting SVGD financially and supporting this non profit!
URL:https://svgd.org/event/fundraising-beverage-booth-pridefest-1st-shift/
ORGANIZER;CN="SVGD":MAILTO:Event@svgd.org
END:VEVENT
BEGIN:VEVENT
DTSTART;TZID=America/Denver:20250628T150000
DTEND;TZID=America/Denver:20250628T193000
DTSTAMP:20260424T004443
CREATED:20250531T200451Z
LAST-MODIFIED:20250531T200451Z
UID:10000361-1751122800-1751139000@svgd.org
SUMMARY:Fundraising Beverage Booth- PrideFest 2nd Shift!
DESCRIPTION:Fundraising Beverage Booth at PrideFest-2nd Shift\, Sat.\, June 28\, 3PM-7:30PM\, 12 Volunteers are needed to run an alcohol booth. The event is in Civic Center Park.  In addition to helping the non-profit who gets the majority of the funds we will get paid money towards our fantastic organization so we can continue to operate.  SVGD needs funds annually in order to pay our insurance\, web hosting\, sponsor our MeetUp group for more volunteers\, etc.  We provide volunteers to approx. 50 non-profit events annually but do need to do a couple for us in order to continue providing this great service to the Metro Denver community.  We will be in charge of an alcohol booth\, which we’ve done for several years\, at this fun event with a percentage of the profits going to our organization as long as we provide the number of volunteers they need for the shift!  Since this is a big undertaking & a fundraiser\, non-SVGD members can also register.  We encourage our members to invite friends\, work associates\, and other non-profit associates to participate\, especially since we need so many volunteers for the 4 shifts.  If we don’t provide the number of volunteers to which we commit we don’t get paid!  When you sign up please let us know if you have other persons who could be volunteers and we will contact them or you can give us their info.  We always have a fantastic time!  It’s a colorful event with lots going on! We’re in a three sided booth with a counter and window that looks out at the colorful action.  It’s like watching TV!  What fun!!  PrideFest is the largest annual fundraiser annually for the LGBTQ Community Center of Colorado (The Center)\, a non-profit that serves more than 47\,000 people annually.  Recognized as one of the top ten pride events in the country\, Denver’s PrideFest is a celebration of community\, heritage\, family and culture. They are expecting around 500\,000 people from Colorado and surrounding areas come out to enjoy the parade\, rally\, music\, entertainment\, food and much more. The Center plays a pivotal role to reduce harassment & discrimination and provides programs & resources needed for the LGBTQ community to live happy\, healthy\, & productive lives.  Please join us as we accomplish two objectives- supporting SVGD financially and supporting this non profit!
URL:https://svgd.org/event/fundraising-beverage-booth-pridefest-2nd-shift/
ORGANIZER;CN="SVGD":MAILTO:Event@svgd.org
END:VEVENT
BEGIN:VEVENT
DTSTART;TZID=America/Denver:20250629T090000
DTEND;TZID=America/Denver:20250629T130000
DTSTAMP:20260424T004443
CREATED:20250531T203534Z
LAST-MODIFIED:20250531T203534Z
UID:10000362-1751187600-1751202000@svgd.org
SUMMARY:Fundraising Beverage Booth- PrideFest 3rd Shift!
DESCRIPTION:Fundraising Beverage Booth at PrideFest-3rd Shift\, Sun.\, June 29\, 9AM-1PM\, 12 Volunteers are needed to run an alcohol booth. The event is in Civic Center Park.  In addition to helping the non-profit who gets the majority of the funds we will get paid money towards our fantastic organization so we can continue to operate.  SVGD needs funds annually in order to pay our insurance\, web hosting\, sponsor our MeetUp group for more volunteers\, etc.  We provide volunteers to approx. 50 non-profit events annually but do need to do a couple for us in order to continue providing this great service to the Metro Denver community.  We will be in charge of an alcohol booth\, which we’ve done for several years\, at this fun event with a percentage of the profits going to our organization as long as we provide the number of volunteers they need for the shift!  Since this is a big undertaking & a fundraiser\, non-SVGD members can also register.  We encourage our members to invite friends\, work associates\, and other non-profit associates to participate\, especially since we need so many volunteers for the 4 shifts.  If we don’t provide the number of volunteers to which we commit we don’t get paid!  When you sign up please let us know if you have other persons who could be volunteers and we will contact them or you can give us their info.  We always have a fantastic time!  It’s a colorful event with lots going on! We’re in a three sided booth with a counter and window that looks out at the colorful action.  It’s like watching TV!  What fun!!  PrideFest is the largest annual fundraiser annually for the LGBTQ Community Center of Colorado (The Center)\, a non-profit that serves more than 47\,000 people annually.  Recognized as one of the top ten pride events in the country\, Denver’s PrideFest is a celebration of community\, heritage\, family and culture. They are expecting around 500\,000 people from Colorado and surrounding areas come out to enjoy the parade\, rally\, music\, entertainment\, food and much more. The Center plays a pivotal role to reduce harassment & discrimination and provides programs & resources needed for the LGBTQ community to live happy\, healthy\, & productive lives.  Please join us as we accomplish two objectives- supporting SVGD financially and supporting this non profit!
URL:https://svgd.org/event/fundraising-beverage-booth-pridefest-3rd-shift/
ORGANIZER;CN="SVGD":MAILTO:Event@svgd.org
END:VEVENT
BEGIN:VEVENT
DTSTART;TZID=America/Denver:20250629T130000
DTEND;TZID=America/Denver:20250629T183000
DTSTAMP:20260424T004443
CREATED:20250531T204435Z
LAST-MODIFIED:20250531T204435Z
UID:10000363-1751202000-1751221800@svgd.org
SUMMARY:Fundraising Beverage Booth- PrideFest 4th Shift!
DESCRIPTION:Fundraising Beverage Booth at PrideFest-4th Shift\, Sun.\, June 29\, 1PM-6:30PM\, 12 Volunteers are needed to run an alcohol booth. The event is in Civic Center Park.  In addition to helping the non-profit who gets the majority of the funds we will get paid money towards our fantastic organization so we can continue to operate.  SVGD needs funds annually in order to pay our insurance\, web hosting\, sponsor our MeetUp group for more volunteers\, etc.  We provide volunteers to approx. 50 non-profit events annually but do need to do a couple for us in order to continue providing this great service to the Metro Denver community.  We will be in charge of an alcohol booth\, which we’ve done for several years\, at this fun event with a percentage of the profits going to our organization as long as we provide the number of volunteers they need for the shift!  Since this is a big undertaking & a fundraiser\, non-SVGD members can also register.  We encourage our members to invite friends\, work associates\, and other non-profit associates to participate\, especially since we need so many volunteers for the 4 shifts.  If we don’t provide the number of volunteers to which we commit we don’t get paid!  When you sign up please let us know if you have other persons who could be volunteers and we will contact them or you can give us their info.  We always have a fantastic time!  It’s a colorful event with lots going on! We’re in a three sided booth with a counter and window that looks out at the colorful action.  It’s like watching TV!  What fun!!  PrideFest is the largest annual fundraiser annually for the LGBTQ Community Center of Colorado (The Center)\, a non-profit that serves more than 47\,000 people annually.  Recognized as one of the top ten pride events in the country\, Denver’s PrideFest is a celebration of community\, heritage\, family and culture. They are expecting around 500\,000 people from Colorado and surrounding areas come out to enjoy the parade\, rally\, music\, entertainment\, food and much more. The Center plays a pivotal role to reduce harassment & discrimination and provides programs & resources needed for the LGBTQ community to live happy\, healthy\, & productive lives.  Please join us as we accomplish two objectives- supporting SVGD financially and supporting this non profit!
URL:https://svgd.org/event/fundraising-beverage-booth-pridefest-4th-shift/
ORGANIZER;CN="SVGD":MAILTO:Event@svgd.org
END:VEVENT
END:VCALENDAR