BEGIN:VCALENDAR
VERSION:2.0
PRODID:-//Single Volunteers of Greater Denver - ECPv6.15.20//NONSGML v1.0//EN
CALSCALE:GREGORIAN
METHOD:PUBLISH
X-ORIGINAL-URL:https://svgd.org
X-WR-CALDESC:Events for Single Volunteers of Greater Denver
REFRESH-INTERVAL;VALUE=DURATION:PT1H
X-Robots-Tag:noindex
X-PUBLISHED-TTL:PT1H
BEGIN:VTIMEZONE
TZID:America/Denver
BEGIN:DAYLIGHT
TZOFFSETFROM:-0700
TZOFFSETTO:-0600
TZNAME:MDT
DTSTART:20240310T090000
END:DAYLIGHT
BEGIN:STANDARD
TZOFFSETFROM:-0600
TZOFFSETTO:-0700
TZNAME:MST
DTSTART:20241103T080000
END:STANDARD
BEGIN:DAYLIGHT
TZOFFSETFROM:-0700
TZOFFSETTO:-0600
TZNAME:MDT
DTSTART:20250309T090000
END:DAYLIGHT
BEGIN:STANDARD
TZOFFSETFROM:-0600
TZOFFSETTO:-0700
TZNAME:MST
DTSTART:20251102T080000
END:STANDARD
BEGIN:DAYLIGHT
TZOFFSETFROM:-0700
TZOFFSETTO:-0600
TZNAME:MDT
DTSTART:20260308T090000
END:DAYLIGHT
BEGIN:STANDARD
TZOFFSETFROM:-0600
TZOFFSETTO:-0700
TZNAME:MST
DTSTART:20261101T080000
END:STANDARD
END:VTIMEZONE
BEGIN:VEVENT
DTSTART;TZID=America/Denver:20250510T153000
DTEND;TZID=America/Denver:20250510T193000
DTSTAMP:20260424T034303
CREATED:20250427T162726Z
LAST-MODIFIED:20250508T033746Z
UID:10000356-1746891000-1746905400@svgd.org
SUMMARY:Postal Carriers- Stamp Out Hunger event + social!
DESCRIPTION:Postal Carriers-Stamp Out Hunger\, Sat. May 10\, 3:30-7:30PM\, 6 volunteers needed. (This event is now on Waiting List status.  If you sign up you will receive the automated response but will only be contacted with the details if there is a volunteer cancellation).The National Assn. of Letter Carriers is sponsoring an event throughout our Metro area where they will be picking up food donations along their carrier routes & will be bringing it back to their post offices.  We will be inside the docks at a Post Office (near Pecos/76th) to help unload and sort the food so trucks can take it back to the Action Center where it will be distributed to low-income families.   It is a very worthwhile event that will make quite a difference for low-income families!  After the event we are inviting the volunteers to have a social experience at a BBQ restaurant that is in the adjoining parking lot.  We helped at this event the  last couple years and enjoyed both the event & the social!
URL:https://svgd.org/event/postal-carriers-stamp-out-hunger-event-social-2/
ORGANIZER;CN="SVGD":MAILTO:Event@svgd.org
END:VEVENT
BEGIN:VEVENT
DTSTART;TZID=America/Denver:20250518T073000
DTEND;TZID=America/Denver:20250518T123000
DTSTAMP:20260424T034303
CREATED:20250316T162124Z
LAST-MODIFIED:20250316T162124Z
UID:10000351-1747553400-1747571400@svgd.org
SUMMARY:Colfax Marathon Fundraiser- 1st Shift
DESCRIPTION:Colfax Marathon Fundraiser\, Sun. May 18\, 7:30AM-12:30PM (the first shift)\, 6 volunteers are needed.  We will be running the Beer Garden at City Park!  The Colfax Marathon is in its 17th year and is a 2-day event with 8 races.  It has unique courses incorporating the iconic landmarks of the Mile-High City.  We will be assisting on the second day when the races are ending and the racers need a drink!  Each year the Colfax Marathon partners with over 200 nonprofits\, who have collectively raised over $3 million in the past 6 years!  It should be a great time while helping several many worthy non profits!  You will receive a Colfax Marathon shirt and snacks during our shift.  They want me to tell them all the Tshirt sizes by April 10th so I’m trying to get most of our registrations by then.  Please sign up soon if you can help!!  They are even giving some funds to help support our non profit if we have all 12 volunteers that they need and cover both shifts.  We did the event last year and really enjoyed the experience!
URL:https://svgd.org/event/colfax-marathon-fundraiser-1st-shift/
ORGANIZER;CN="SVGD":MAILTO:Event@svgd.org
END:VEVENT
BEGIN:VEVENT
DTSTART;TZID=America/Denver:20250518T090000
DTEND;TZID=America/Denver:20250518T140000
DTSTAMP:20260424T034303
CREATED:20250316T162507Z
LAST-MODIFIED:20250409T150554Z
UID:10000352-1747558800-1747576800@svgd.org
SUMMARY:Colfax Marathon Fundraiser- 2nd Shift
DESCRIPTION:Colfax Marathon Fundraiser\, Sun. May 18\, 9:00AM-2:00PM (the second shift)\, 6 volunteers are needed.  We will be running the Beer Garden at City Park!  The Colfax Marathon is in its 17th year and is a 2-day event with 8 races.  It has unique courses incorporating the iconic landmarks of the Mile-High City.  We will be assisting on the second day when the races are ending and the racers need a drink!  Each year the Colfax Marathon partners with over 200 nonprofits\, who have collectively raised over $3 million in the past 6 years!  It should be a great time while helping several many worthy non profits!  You will receive a Colfax Marathon shirt and snacks during our shift.  They want me to tell them all the Tshirt sizes by April 10th so I’m trying to get most of our registrations by then.  Please sign up soon if you can help!!  They are even giving some funds to help support our non profit if we have all 12 volunteers that they need and cover both shifts.  We did the event last year and really enjoyed the experience!
URL:https://svgd.org/event/colfax-marathon-fundraiser-2nd-shift/
ORGANIZER;CN="SVGD":MAILTO:Event@svgd.org
END:VEVENT
BEGIN:VEVENT
DTSTART;TZID=America/Denver:20250531T083000
DTEND;TZID=America/Denver:20250531T140000
DTSTAMP:20260424T034303
CREATED:20250517T164445Z
LAST-MODIFIED:20250517T164445Z
UID:10000357-1748680200-1748700000@svgd.org
SUMMARY:Adopt A Pet & Pet Education event!
DESCRIPTION:Adopt A Pet & Pet Education event\, Sat. May 31\, 8:30AM-2PM\, 3 volunteers are needed.  This is the 7th Annual event at Heather Gardens in Aurora. We will be helping to get the helium balloons blown up and put in positions in the event room. Also we will help with table decorations & door prizes.  Then the 4 shelters will set up outside. We may help with registration and bingo cards\, the door prize drawing\, & handing out dog & cat toy gifts.  Volunteers will receive free lunch and are welcome to stay to watch the program & the professional comedian that is there from 2:30-3:30PM. This event will benefit the Rocky Mountain Feline Rescue\, Maxfund\, Aurora Animal Shelter\, and Humane Colorado (formerly Denver Dumb Friends League).
URL:https://svgd.org/event/adopt-a-pet-pet-education-event/
ORGANIZER;CN="SVGD":MAILTO:Event@svgd.org
END:VEVENT
END:VCALENDAR