BEGIN:VCALENDAR
VERSION:2.0
PRODID:-//Single Volunteers of Greater Denver - ECPv6.15.20//NONSGML v1.0//EN
CALSCALE:GREGORIAN
METHOD:PUBLISH
X-ORIGINAL-URL:https://svgd.org
X-WR-CALDESC:Events for Single Volunteers of Greater Denver
REFRESH-INTERVAL;VALUE=DURATION:PT1H
X-Robots-Tag:noindex
X-PUBLISHED-TTL:PT1H
BEGIN:VTIMEZONE
TZID:America/Denver
BEGIN:DAYLIGHT
TZOFFSETFROM:-0700
TZOFFSETTO:-0600
TZNAME:MDT
DTSTART:20240310T090000
END:DAYLIGHT
BEGIN:STANDARD
TZOFFSETFROM:-0600
TZOFFSETTO:-0700
TZNAME:MST
DTSTART:20241103T080000
END:STANDARD
BEGIN:DAYLIGHT
TZOFFSETFROM:-0700
TZOFFSETTO:-0600
TZNAME:MDT
DTSTART:20250309T090000
END:DAYLIGHT
BEGIN:STANDARD
TZOFFSETFROM:-0600
TZOFFSETTO:-0700
TZNAME:MST
DTSTART:20251102T080000
END:STANDARD
BEGIN:DAYLIGHT
TZOFFSETFROM:-0700
TZOFFSETTO:-0600
TZNAME:MDT
DTSTART:20260308T090000
END:DAYLIGHT
BEGIN:STANDARD
TZOFFSETFROM:-0600
TZOFFSETTO:-0700
TZNAME:MST
DTSTART:20261101T080000
END:STANDARD
END:VTIMEZONE
BEGIN:VEVENT
DTSTART;TZID=America/Denver:20250308T090000
DTEND;TZID=America/Denver:20250308T123000
DTSTAMP:20260424T094928
CREATED:20250221T165421Z
LAST-MODIFIED:20250307T152855Z
UID:10000347-1741424400-1741437000@svgd.org
SUMMARY:Clothing Donation Sorting for Jeffco Action Center-2nd time!
DESCRIPTION:Clothing Donation Sorting for Jeffco Action Center\, Sat.\, March 8th\, 9:15AM-12:15PM. (This event is now on Waiting List status.  If you sign up you will receive the automated response but will only be contacted with the details if there is a volunteer cancellation.) 6 Volunteers are needed to help sort the donated clothing for the busy week ahead.  This is our second time helping them at this event this year.  During the week people in need shop with volunteer shoppers in their donation “store” that is set up by sizes and types of clothing just like a regular store.  They are told how many items they can receive at the store and are given a time limit for their shopping. We have helped with this portion of their center’s activities before and really enjoyed the experience!! The Action Center’s mission is to provide an immediate response to basic human needs and promote pathways to self-sufficiency for Jefferson County residents and the homeless.  They are located in Lakewood. We used to assist them but they discontinued their Saturday shifts a few years ago so it’s been over 5 years since we’ve been able to help them with this so I scheduled a shift that filled quickly in February plus this shift as our volunteers want to assist here!  I’m really happy that we are able to assist again as our volunteers always loved this event!
URL:https://svgd.org/event/clothing-donation-sorting-for-jeffco-action-center-2nd-time/
ORGANIZER;CN="SVGD":MAILTO:Event@svgd.org
END:VEVENT
BEGIN:VEVENT
DTSTART;TZID=America/Denver:20250313T090000
DTEND;TZID=America/Denver:20250313T130000
DTSTAMP:20260424T094928
CREATED:20250228T230112Z
LAST-MODIFIED:20250228T230112Z
UID:10000348-1741856400-1741870800@svgd.org
SUMMARY:Advocates for Recovery Colorado Resource Fair!
DESCRIPTION:Advocates for Recovery Colorado Resource Fair\, Thurs. March 13\, 9AM-1PM\, 6 volunteers are needed.  This is our first time assisting this great non profit & our first time doing a daytime event during the week. Please assist if you can!  AFRC promotes & supports the statewide recovery community by providing peer & family recovery support services at no cost to the individual or family member!  This resource fair is near DU.  We will be helping at the front table to greet people & check them in with their QR codes.  Prior to that we will be greeting the vendors when they arrive to show them where to put their table & will be helping to put chairs & materials\, such as flyers\, at the vendor tables (not any heavy work) etc. There will be a music background\, a coffee shop\, and a cafe area.  We will assist & guide people as needed. The fair actually ends at 3PM. This should be a good time to get to know the organization & recovery community as they are going to request us in the future for some of their weekend festivities! 
URL:https://svgd.org/event/advocates-for-recovery-colorado-resource-fair/
ORGANIZER;CN="SVGD":MAILTO:Event@svgd.org
END:VEVENT
BEGIN:VEVENT
DTSTART;TZID=America/Denver:20250322T083000
DTEND;TZID=America/Denver:20250322T120000
DTSTAMP:20260424T094928
CREATED:20250309T151311Z
LAST-MODIFIED:20250314T150639Z
UID:10000349-1742632200-1742644800@svgd.org
SUMMARY:Help Low-Income Girls get FREE Prom Dresses at Bella Boutique!
DESCRIPTION:Help Low-Income Girls get FREE Prom Dresses at Bella Boutique\, Sat. March 22\, 8:30AM-12PM\, 6 Volunteers are needed.  We will be Personal Shoppers who are each matched with a high school student.  Together each volunteer will help them shop the racks to find the perfect look for their prom.  Once the student has selected a dress\, you may shop together for shoes and accessories.  Bella Boutique helps low-income students so that they do not look “low income” and are able to attend their prom\, which is such an important event at their age.  We will receive training on the layout of the store so we know where everything is and will all wear black so the students are the focus while having the shopping experience.  This event is in SW Denver.  This is a very worthy non profit that stresses:  “Equity\, dignity\, inclusion — it matters!”  We have helped them several times and our volunteers always love this event!
URL:https://svgd.org/event/free-prom-dress-shoppers-at-bella-boutique-2/
ORGANIZER;CN="SVGD":MAILTO:Event@svgd.org
END:VEVENT
END:VCALENDAR