BEGIN:VCALENDAR
VERSION:2.0
PRODID:-//Single Volunteers of Greater Denver - ECPv6.15.20//NONSGML v1.0//EN
CALSCALE:GREGORIAN
METHOD:PUBLISH
X-ORIGINAL-URL:https://svgd.org
X-WR-CALDESC:Events for Single Volunteers of Greater Denver
REFRESH-INTERVAL;VALUE=DURATION:PT1H
X-Robots-Tag:noindex
X-PUBLISHED-TTL:PT1H
BEGIN:VTIMEZONE
TZID:America/Denver
BEGIN:DAYLIGHT
TZOFFSETFROM:-0700
TZOFFSETTO:-0600
TZNAME:MDT
DTSTART:20230312T090000
END:DAYLIGHT
BEGIN:STANDARD
TZOFFSETFROM:-0600
TZOFFSETTO:-0700
TZNAME:MST
DTSTART:20231105T080000
END:STANDARD
BEGIN:DAYLIGHT
TZOFFSETFROM:-0700
TZOFFSETTO:-0600
TZNAME:MDT
DTSTART:20240310T090000
END:DAYLIGHT
BEGIN:STANDARD
TZOFFSETFROM:-0600
TZOFFSETTO:-0700
TZNAME:MST
DTSTART:20241103T080000
END:STANDARD
BEGIN:DAYLIGHT
TZOFFSETFROM:-0700
TZOFFSETTO:-0600
TZNAME:MDT
DTSTART:20250309T090000
END:DAYLIGHT
BEGIN:STANDARD
TZOFFSETFROM:-0600
TZOFFSETTO:-0700
TZNAME:MST
DTSTART:20251102T080000
END:STANDARD
END:VTIMEZONE
BEGIN:VEVENT
DTSTART;TZID=America/Denver:20241207T163000
DTEND;TZID=America/Denver:20241207T213000
DTSTAMP:20260424T141309
CREATED:20241110T152624Z
LAST-MODIFIED:20241121T153805Z
UID:10000338-1733589000-1733607000@svgd.org
SUMMARY:Volunteers for 50th Annual 9NEWS Parade of Lights!
DESCRIPTION:50th Annual 9NEWS Parade of Lights\, Sat. Dec. 7th\, 4:30-9:30PM\, 6-8 Volunteers are needed.  (This event is on Waiting List status.  If you register you will receive the automated responses but will only be contacted with the details if there is a volunteer cancellation.)This is a Colorado holiday tradition that dates back to 1975 & has grown into the largest and most-watched parade in the Rocky Mountain region. Every year over 500 volunteers make the parade happen.  We will be Backup Volunteers helping in a few areas.  This should be a fun event!  I’m glad we got accepted to have the opportunity. The event is Downtown by the Capitol building with hundreds of people there at the Grandstand to watch the lights plus there is a 2-mile parade course for the costume characters\, balloons\, floats\, etc.  You will receive a Parade of Lights sweatshirt plus coffee\, hot chocolate & doughnuts.  It will be a great opportunity to get a close-up look at the lights & the parade.  I need you to sign up quickly for this one as I have to submit the names/sweatshirt sizes etc. by this upcoming Wednesday\, Nov. 13th!!
URL:https://svgd.org/event/volunteers-for-50th-annual-9news-parade-of-lights/
ORGANIZER;CN="SVGD":MAILTO:Event@svgd.org
END:VEVENT
BEGIN:VEVENT
DTSTART;TZID=America/Denver:20241214T133000
DTEND;TZID=America/Denver:20241214T163000
DTSTAMP:20260424T141309
CREATED:20241124T161503Z
LAST-MODIFIED:20241208T193609Z
UID:10000339-1734183000-1734193800@svgd.org
SUMMARY:Holiday Meal & Activities for Low-Income Families!
DESCRIPTION:Holiday Meal & Activities benefiting low-income families\, Sat. Dec. 14th\, 1:30-4:30PM.  8 volunteers are needed. (This event is now on Waiting List status.  If you sign up you will received the automated response but will only be contacted with the details if we get a volunteer cancellation or if they can use more volunteers).  This event is sponsored by the Iron Sharp Community Foundation.  The event will be held at an Aurora elementary school.  There are three shifts during the day.  We are on the second shift.  The mission is to support students & families experiencing challenges such as homelessness\, temporary living situations\, and living in poverty.  There will be a cozy\, family-style meal and also several provided resources such as brand-new winter coats\, a hot-chocolate station\, games\, etc.  The goal of the event is to touch the lives & facilitate a wonderful experience for these families. We helped at this event last year for the first time and really enjoyed it!
URL:https://svgd.org/event/lavished-with-love-holiday-meal-activities-for-low-income-families/
ORGANIZER;CN="SVGD":MAILTO:Event@svgd.org
END:VEVENT
END:VCALENDAR