BEGIN:VCALENDAR
VERSION:2.0
PRODID:-//Single Volunteers of Greater Denver - ECPv6.15.20//NONSGML v1.0//EN
CALSCALE:GREGORIAN
METHOD:PUBLISH
X-WR-CALNAME:Single Volunteers of Greater Denver
X-ORIGINAL-URL:https://svgd.org
X-WR-CALDESC:Events for Single Volunteers of Greater Denver
REFRESH-INTERVAL;VALUE=DURATION:PT1H
X-Robots-Tag:noindex
X-PUBLISHED-TTL:PT1H
BEGIN:VTIMEZONE
TZID:America/Denver
BEGIN:DAYLIGHT
TZOFFSETFROM:-0700
TZOFFSETTO:-0600
TZNAME:MDT
DTSTART:20230312T090000
END:DAYLIGHT
BEGIN:STANDARD
TZOFFSETFROM:-0600
TZOFFSETTO:-0700
TZNAME:MST
DTSTART:20231105T080000
END:STANDARD
BEGIN:DAYLIGHT
TZOFFSETFROM:-0700
TZOFFSETTO:-0600
TZNAME:MDT
DTSTART:20240310T090000
END:DAYLIGHT
BEGIN:STANDARD
TZOFFSETFROM:-0600
TZOFFSETTO:-0700
TZNAME:MST
DTSTART:20241103T080000
END:STANDARD
BEGIN:DAYLIGHT
TZOFFSETFROM:-0700
TZOFFSETTO:-0600
TZNAME:MDT
DTSTART:20250309T090000
END:DAYLIGHT
BEGIN:STANDARD
TZOFFSETFROM:-0600
TZOFFSETTO:-0700
TZNAME:MST
DTSTART:20251102T080000
END:STANDARD
END:VTIMEZONE
BEGIN:VEVENT
DTSTART;TZID=America/Denver:20241105T180000
DTEND;TZID=America/Denver:20241105T200000
DTSTAMP:20260424T154008
CREATED:20241026T201157Z
LAST-MODIFIED:20241101T170607Z
UID:10000336-1730829600-1730836800@svgd.org
SUMMARY:Serving Dinner at the Delores Project Women's Safehouse!
DESCRIPTION:Serving Dinner at the Delores Project Women’s Safehouse\, Tues. Nov. 5th\, 6-8 PM\, 6 Volunteers are needed. (This event is now on Waiting List status. If you sign up you will receive an automated response but will only be contacted if there is a volunteer cancellation.)  This is a fantastic facility that assists homeless women who have been in challenging situations!  We can help bring some Holiday joy there while serving dinner & talking to residents as they come through the dinner line!  The food is provided\, we just need to heat it up and serve it to the residents as they come through the line.  In addition to serving the food we will eat dinner towards the end of our shift prior to packing up the food items for storage.  So many of our volunteers request this event!  We have assisted this women’s safe shelter several times through several years and they have asked us back as we have fantastic groups of volunteers. The shelter is in West Denver. This is a confidential location that is given out to the volunteers after registering due to the nature of the facility.  Both male & female volunteers are welcome to assist at this event.
URL:https://svgd.org/event/serving-dinner-at-the-delores-project-womens-safehouse-10/
ORGANIZER;CN="SVGD":MAILTO:Event@svgd.org
END:VEVENT
BEGIN:VEVENT
DTSTART;TZID=America/Denver:20241123T090000
DTEND;TZID=America/Denver:20241123T120000
DTSTAMP:20260424T154008
CREATED:20241102T171419Z
LAST-MODIFIED:20241121T153651Z
UID:10000337-1732352400-1732363200@svgd.org
SUMMARY:Denver Feed-A-Family- TDay Food Boxes to low-income families!
DESCRIPTION:Denver Feed-A-Family\, Sat. Nov. 23rd\, 9AM-Noon\, 10 Volunteers are needed.  (This event is on Waiting List status.  If you register you will receive the automated responses but will only be contacted with the details if we have a volunteer cancellation.) We will be helping to pack food into the boxes for the low-income families.  We will be working as a team.  This assembly process actually starts at midnight but I’ve signed us up for the last shift so we’ll be able to see the families as they come to pick up their Food Boxes that will allow them to have a good Thanksgiving Dinner for their families.  This event is done in honor of Daddy Bruce Randolph who for years had a BBQ restaurant & gave food away for years so that thousands of people could have a good Thanksgiving.  The event is in the Central Denver area. This is a very worthwhile event whose theme this year is “One Community\, One Family” that reflects their dedication to nourishing our city and embracing the diversity that makes it thrive.  Please sign up soon so I can get the names of our volunteers in our group to the organization.
URL:https://svgd.org/event/denver-feed-a-family-tday-food-boxes-to-low-income-families/
ORGANIZER;CN="SVGD":MAILTO:Event@svgd.org
END:VEVENT
END:VCALENDAR