BEGIN:VCALENDAR
VERSION:2.0
PRODID:-//Single Volunteers of Greater Denver - ECPv6.15.20//NONSGML v1.0//EN
CALSCALE:GREGORIAN
METHOD:PUBLISH
X-ORIGINAL-URL:https://svgd.org
X-WR-CALDESC:Events for Single Volunteers of Greater Denver
REFRESH-INTERVAL;VALUE=DURATION:PT1H
X-Robots-Tag:noindex
X-PUBLISHED-TTL:PT1H
BEGIN:VTIMEZONE
TZID:America/Denver
BEGIN:DAYLIGHT
TZOFFSETFROM:-0700
TZOFFSETTO:-0600
TZNAME:MDT
DTSTART:20230312T090000
END:DAYLIGHT
BEGIN:STANDARD
TZOFFSETFROM:-0600
TZOFFSETTO:-0700
TZNAME:MST
DTSTART:20231105T080000
END:STANDARD
BEGIN:DAYLIGHT
TZOFFSETFROM:-0700
TZOFFSETTO:-0600
TZNAME:MDT
DTSTART:20240310T090000
END:DAYLIGHT
BEGIN:STANDARD
TZOFFSETFROM:-0600
TZOFFSETTO:-0700
TZNAME:MST
DTSTART:20241103T080000
END:STANDARD
BEGIN:DAYLIGHT
TZOFFSETFROM:-0700
TZOFFSETTO:-0600
TZNAME:MDT
DTSTART:20250309T090000
END:DAYLIGHT
BEGIN:STANDARD
TZOFFSETFROM:-0600
TZOFFSETTO:-0700
TZNAME:MST
DTSTART:20251102T080000
END:STANDARD
END:VTIMEZONE
BEGIN:VEVENT
DTSTART;TZID=America/Denver:20240914T120000
DTEND;TZID=America/Denver:20240914T143000
DTSTAMP:20260424T184654
CREATED:20240804T161708Z
LAST-MODIFIED:20240912T183323Z
UID:10000329-1726315200-1726324200@svgd.org
SUMMARY:Lakewood Food & Wine Festival benefiting Bayaud Enterprises!
DESCRIPTION:Lakewood Food & Wine Festival benefiting Bayaud Enterprises\, Sat. Sept. 14th\, 12-2:30PM\, 9 Volunteers are needed\,  (We just found our 9th volunteer.  If you sign up you will receive the automated responses.  I will check to see if they can still use another volunteer and will let you know & then send the details if they need another volunteer.)  We will be Food & Wine area wristband monitors who assist with checking  entry into the secured tasting area. Bayaud Enterprises helps people with hurdles/disabilities to engage in the workforce and attain self-reliance.  The event will be held in a park in Lakewood and will run until 5PM so you can stay and enjoy the event if you wish.  You will receive two free tickets so you can stay & do so!  They will have bands (which we can hear from our location)\, lawn games\, tie-dye\, food trucks\, & a wine tasting. This year is their third year for the Annual Event. We assisted them the first two years and always have a great time! This is such a worthwhile organization that helps create jobs\, provides training for future employment\, and assists individuals and families in accessing social services and other community services that are available.
URL:https://svgd.org/event/lakewood-food-wine-festival-benefiting-bayaud-enterprises/
ORGANIZER;CN="SVGD":MAILTO:Event@svgd.org
END:VEVENT
BEGIN:VEVENT
DTSTART;TZID=America/Denver:20240921T163000
DTEND;TZID=America/Denver:20240921T190000
DTSTAMP:20260424T184654
CREATED:20240825T164101Z
LAST-MODIFIED:20240909T162219Z
UID:10000330-1726936200-1726945200@svgd.org
SUMMARY:WagsN'Whiskers Gala- "A Night in Hollywoof" benefiting Paws Co.
DESCRIPTION:WagsN’Whiskers Gala “A Night in Hollywoof” benefiting Paws Co.\, Sat. Sept. 21st\, 4:30-7:00 PM\, 10 volunteers are needed. (This event is on Waiting List status. If you register you will get the automated responses but will only be contacted if we get a volunteer cancellation).  We will be helping with at the Registration table & as Greeters by the Coat Room.  We helped them last year\, had a great time\, & they are requesting us back as they said they really loved our group!  PawsCo gives vulnerable animals an opportunity to survive!  They assist abandoned animals.  This should be a very fun time for a very worthy cause that helps animals in need!  The event will be held at a hotel in Downtown Denver.  It is the non profit’s biggest fundraiser of the year.  Formal attire.  We will have dinner & there will be an open bar.
URL:https://svgd.org/event/wagsnwhiskers-gala-a-night-in-hollywoof-benefiting-paws-co/
ORGANIZER;CN="SVGD":MAILTO:Event@svgd.org
END:VEVENT
BEGIN:VEVENT
DTSTART;TZID=America/Denver:20240928T160000
DTEND;TZID=America/Denver:20240928T193000
DTSTAMP:20260424T184654
CREATED:20240825T164848Z
LAST-MODIFIED:20240830T211803Z
UID:10000331-1727539200-1727551800@svgd.org
SUMMARY:Butterfly Ball benefiting the Butterfly Pavilion!
DESCRIPTION:Butterfly Ball benefiting the Butterfly Pavilion\, Sat. Sept. 28th 4:00-7:30PM\, 6 Volunteers (possibly more) are needed.  We will be assisting to Greet & Check-In guests and with the Silent Auction.  They’ve requested us back as they said we had such a great group last year.  This is a gala with a champagne welcome\, cocktail reception\, silent & live auctions\, seated dinner\, program\, and dancing. They even have a magical stroll through a “Monarch Menangerie” filled with 400 live butterflies. It will be held in a Broomfield hotel.  Our volunteers will receive dinner and will have an opportunity to enjoy the event as the dinner\, program\, live auction\, and dancing starts at 7:30PM. The Butterfly Pavilion is the first stand-alone\, Association of Zoos and Aquariums-accredited non-profit invertebrate zoo in the world and a leader in invertebrate\, inspiration and connection!
URL:https://svgd.org/event/butterfly-ball-benefiting-the-butterfly-pavillion/
ORGANIZER;CN="SVGD":MAILTO:Event@svgd.org
END:VEVENT
END:VCALENDAR