BEGIN:VCALENDAR
VERSION:2.0
PRODID:-//Single Volunteers of Greater Denver - ECPv6.15.20//NONSGML v1.0//EN
CALSCALE:GREGORIAN
METHOD:PUBLISH
X-ORIGINAL-URL:https://svgd.org
X-WR-CALDESC:Events for Single Volunteers of Greater Denver
REFRESH-INTERVAL;VALUE=DURATION:PT1H
X-Robots-Tag:noindex
X-PUBLISHED-TTL:PT1H
BEGIN:VTIMEZONE
TZID:America/Denver
BEGIN:DAYLIGHT
TZOFFSETFROM:-0700
TZOFFSETTO:-0600
TZNAME:MDT
DTSTART:20230312T090000
END:DAYLIGHT
BEGIN:STANDARD
TZOFFSETFROM:-0600
TZOFFSETTO:-0700
TZNAME:MST
DTSTART:20231105T080000
END:STANDARD
BEGIN:DAYLIGHT
TZOFFSETFROM:-0700
TZOFFSETTO:-0600
TZNAME:MDT
DTSTART:20240310T090000
END:DAYLIGHT
BEGIN:STANDARD
TZOFFSETFROM:-0600
TZOFFSETTO:-0700
TZNAME:MST
DTSTART:20241103T080000
END:STANDARD
BEGIN:DAYLIGHT
TZOFFSETFROM:-0700
TZOFFSETTO:-0600
TZNAME:MDT
DTSTART:20250309T090000
END:DAYLIGHT
BEGIN:STANDARD
TZOFFSETFROM:-0600
TZOFFSETTO:-0700
TZNAME:MST
DTSTART:20251102T080000
END:STANDARD
END:VTIMEZONE
BEGIN:VEVENT
DTSTART;TZID=America/Denver:20240713T140000
DTEND;TZID=America/Denver:20240713T180000
DTSTAMP:20260424T214636
CREATED:20240625T153107Z
LAST-MODIFIED:20240711T162303Z
UID:10000325-1720879200-1720893600@svgd.org
SUMMARY:CROSSCURRENTS River & Music Festival benefiting The Greenway Foundation!
DESCRIPTION:CROSSCURRENTS River & Music Festival benefiting The Greenway Foundation\, 2-6PM Sat. July 13th\, 6 volunteers are needed. (This event is now on Waiting List status.  If you sign up you will receive the automated responses but will only be contacted with the details if we have a volunteer cancellation). The Crosscurrents Festival is in Confluence Park by the South Platte River.  We will be helping at the information/waiver booths helping with waivers\, raffle tickets\, & giving out general information. Since they have water activities and a kids zone with a rockclimbing wall we will help event attendees sign waivers\, get wristbands\, and navigate the event space.  Volunteers will receive 2 free drink tickets and a Tshirt. The event also has food trucks & live music from two stages all day and lasts until 10:00PM so you can stay and enjoy the activities if you wish.  The Greenway Foundation has been a non profit since 1974.  They have been leading efforts to reclaim the South Platte River and its tributaries from a virtual cesspool to a place of environmental and recreational pride.
URL:https://svgd.org/event/crosscurrents-river-music-festival-benefiting-the-greenway-foundation/
ORGANIZER;CN="SVGD":MAILTO:Event@svgd.org
END:VEVENT
BEGIN:VEVENT
DTSTART;TZID=America/Denver:20240728T140000
DTEND;TZID=America/Denver:20240728T160000
DTSTAMP:20260424T214636
CREATED:20240713T142454Z
LAST-MODIFIED:20240726T134245Z
UID:10000326-1722175200-1722182400@svgd.org
SUMMARY:Colorado Dragon Boat Festival!
DESCRIPTION:Colorado Dragon Boat Festival\, Sun. July 28th\, 2-4PM\, 6 Volunteers are needed. (This event is now on Waiting List status.  If you sign up you will receive the automated responses but will only be contacted with the details if we have a volunteer cancellation). We will be helping by the docks in the  Racing area so will get to see the races!  They are expecting 170\,000 people attend this 2-day event which is the largest of its kind in the nation celebrating the traditional Chinese holiday- this year is The Year of the Wood Dragon Celebration & promoting contemporary cultural integration between the diverse Asian Pacific American (APA) communities.   It is held at Sloan’s Lake and has over 40 teams from across the world competing in the dragon boat race\, a performing arts stage\, an Asian market place\, a taste of Asian food court & more!!  The Festival is open at 10AM so you can come prior to our shift for free free to watch some of the performances\, tour the market area & eat some great food if you’d like. After our shift they will have the race awards and a band at the band stage.  We’ve helped them several times previously and always enjoyed the experience! 
URL:https://svgd.org/event/colorado-dragon-boat-festival-3/
ORGANIZER;CN="SVGD":MAILTO:Event@svgd.org
END:VEVENT
END:VCALENDAR