BEGIN:VCALENDAR
VERSION:2.0
PRODID:-//Single Volunteers of Greater Denver - ECPv6.15.20//NONSGML v1.0//EN
CALSCALE:GREGORIAN
METHOD:PUBLISH
X-WR-CALNAME:Single Volunteers of Greater Denver
X-ORIGINAL-URL:https://svgd.org
X-WR-CALDESC:Events for Single Volunteers of Greater Denver
REFRESH-INTERVAL;VALUE=DURATION:PT1H
X-Robots-Tag:noindex
X-PUBLISHED-TTL:PT1H
BEGIN:VTIMEZONE
TZID:America/Denver
BEGIN:DAYLIGHT
TZOFFSETFROM:-0700
TZOFFSETTO:-0600
TZNAME:MDT
DTSTART:20230312T090000
END:DAYLIGHT
BEGIN:STANDARD
TZOFFSETFROM:-0600
TZOFFSETTO:-0700
TZNAME:MST
DTSTART:20231105T080000
END:STANDARD
BEGIN:DAYLIGHT
TZOFFSETFROM:-0700
TZOFFSETTO:-0600
TZNAME:MDT
DTSTART:20240310T090000
END:DAYLIGHT
BEGIN:STANDARD
TZOFFSETFROM:-0600
TZOFFSETTO:-0700
TZNAME:MST
DTSTART:20241103T080000
END:STANDARD
BEGIN:DAYLIGHT
TZOFFSETFROM:-0700
TZOFFSETTO:-0600
TZNAME:MDT
DTSTART:20250309T090000
END:DAYLIGHT
BEGIN:STANDARD
TZOFFSETFROM:-0600
TZOFFSETTO:-0700
TZNAME:MST
DTSTART:20251102T080000
END:STANDARD
END:VTIMEZONE
BEGIN:VEVENT
DTSTART;TZID=America/Denver:20240104T170000
DTEND;TZID=America/Denver:20240104T190000
DTSTAMP:20260425T082537
CREATED:20231215T151623Z
LAST-MODIFIED:20231230T214300Z
UID:10000235-1704387600-1704394800@svgd.org
SUMMARY:Serving Dinner at The Crossing transitional shelter!
DESCRIPTION:Serving Dinner at The Crossing transitional shelter\, Thurs. Jan. 4th\, 5PM-7PM\, 5 volunteers are needed. (This event is now on Waiting List status.  If you register you will receive an automated response but will only be contacted with the details if there is a volunteer cancellation.) Many of our volunteers request this event because they enjoy it and feel that it is such a worthwhile organization.  The Crossing is a transitional facility between the homeless shelter and getting back into a home.  The residents are working and saving up for a place to live.  It is drug & alcohol free.  Men\, women & children reside there.  It provides a great service as people work to get back on their feet. Our volunteers will help serve in the buffet line and may help with some of the meal bags for those who come back from work after dinner time.  After we serve dinner we will have an opportunity to eat as a group and also enjoy the meal before we leave at 7PM.  We will be behind the counter & plexi-glass when serving food and there are sinks for handwashing and sanitizer.
URL:https://svgd.org/event/serving-dinner-at-the-crossing-transitional-shelter-14/
ORGANIZER;CN="SVGD":MAILTO:Event@svgd.org
END:VEVENT
BEGIN:VEVENT
DTSTART;TZID=America/Denver:20240110T180000
DTEND;TZID=America/Denver:20240110T200000
DTSTAMP:20260425T082537
CREATED:20231230T214641Z
LAST-MODIFIED:20231230T214641Z
UID:10000236-1704909600-1704916800@svgd.org
SUMMARY:Serving Dinner at The Delores Project Women's Safehouse!
DESCRIPTION:Serving Dinner at The Delores Project Women’s Safehouse\,Wed. Jan. 10th\, 6-8 PM\, 5 Volunteers are needed. (We had such a great response when we did this event on Dec. 5th that we had a long Waiting List of volunteers.  This event has been set up for those volunteers so they can finally assist at the location.  If you sign up you will receive a confirmation of your registration but will only be contacted with the details if there is a volunteer cancellation.) This is a fantastic facility that assists homeless women who have been in challenging situations!  We can help bring some Holiday joy there while serving dinner & talking to residents as they come through the dinner line!  The food is provided\, we just need to heat it up and serve it to the residents as they come through the line.  In addition to serving the food we will eat dinner towards the end of our shift prior to packing up the food items for storage. Volunteers will need to submit their COVID vaccination card prior to the event so sign up soon so we can get that to them.   So many of our volunteers request this event!  We have assisted this women’s safe shelter several times and they have asked us back as we have fantastic groups of volunteers. The shelter is in West Denver. This is a confidential location that is given out to the volunteers after registering due to the nature of the facility.  Both male & female volunteers are welcome to assist at this event.
URL:https://svgd.org/event/serving-dinner-at-the-delores-project-womens-safehouse-9/
ORGANIZER;CN="SVGD":MAILTO:Event@svgd.org
END:VEVENT
BEGIN:VEVENT
DTSTART;TZID=America/Denver:20240118T173000
DTEND;TZID=America/Denver:20240118T193000
DTSTAMP:20260425T082537
CREATED:20240106T172517Z
LAST-MODIFIED:20240106T172517Z
UID:10000238-1705599000-1705606200@svgd.org
SUMMARY:2024 SVGD Annual Meeting!
DESCRIPTION:2024 SVGD Annual Meeting\, Thurs.\, Jan. 18th\, 5:30-7:30PM.  We will order dinner for all attendees at 6PM. At the meeting we will go over the year of 2023 as it relates to our events\, treasury\, etc. & will elect our 2024 Board of Directors\,   We will also have a group discussion re: the upcoming year of 2024.  We are excited to have a great upcoming year with fun & worthwhile events!  All paid SVGD members who joined by Dec. 18th\, 2023\, are allowed to vote.   I had to look to find a good location as many of the non-profit centers & meeting places are still closed.  The event will be held at a restaurant that is near Broadway/Alameda as we did last year.  The exact address will be given after you register. Please register as soon as you can so I can let the restaurant know how many people to expect.  If you wish to vote but cannot attend please contact Kayla Okafor at 303-455-0244 or director@svgd.org to get a ballot so you can vote prior to the meeting. 
URL:https://svgd.org/event/2024-svgd-annual-meeting/
ORGANIZER;CN="SVGD":MAILTO:Event@svgd.org
END:VEVENT
BEGIN:VEVENT
DTSTART;TZID=America/Denver:20240130T173000
DTEND;TZID=America/Denver:20240130T200000
DTSTAMP:20260425T082537
CREATED:20240113T200317Z
LAST-MODIFIED:20240124T162321Z
UID:10000240-1706635800-1706644800@svgd.org
SUMMARY:Metro Caring-Food Bag Making/Helping at Food Market
DESCRIPTION:Food Bag Making/Helping at Food Market for Metro Caring\, Tues. Jan. 30th\, 5:30-8PM\, 6 Volunteers are needed. (This event is now on Waiting List status.  If you sign up you will receive the automated responses but will only be contacted with the details if we have a volunteer cancellation.) We will be packing and organizing home-delivery food bag orders that are delivered (not by us) to community members who are unable to come to the facility many because of medical issues\, helping to receive donations\, & may help in their attached food market which is like a grocery store.  Metro Caring relieves hunger while also addressing the root causes of that hunger.  The event will be in Central Denver.  There is free parking next to the building.  This is our fourth opportunity to help this worthy non profit which last year distributed over 2+ million pounds of nutritious food to hungry families & individuals while also providing education and tools to help participants improve their health and reach their potential. 
URL:https://svgd.org/event/metro-caring-food-bag-making-helping-at-food-market/
ORGANIZER;CN="SVGD":MAILTO:Event@svgd.org
END:VEVENT
END:VCALENDAR