BEGIN:VCALENDAR
VERSION:2.0
PRODID:-//Single Volunteers of Greater Denver - ECPv6.15.20//NONSGML v1.0//EN
CALSCALE:GREGORIAN
METHOD:PUBLISH
X-WR-CALNAME:Single Volunteers of Greater Denver
X-ORIGINAL-URL:https://svgd.org
X-WR-CALDESC:Events for Single Volunteers of Greater Denver
REFRESH-INTERVAL;VALUE=DURATION:PT1H
X-Robots-Tag:noindex
X-PUBLISHED-TTL:PT1H
BEGIN:VTIMEZONE
TZID:America/Denver
BEGIN:DAYLIGHT
TZOFFSETFROM:-0700
TZOFFSETTO:-0600
TZNAME:MDT
DTSTART:20220313T090000
END:DAYLIGHT
BEGIN:STANDARD
TZOFFSETFROM:-0600
TZOFFSETTO:-0700
TZNAME:MST
DTSTART:20221106T080000
END:STANDARD
BEGIN:DAYLIGHT
TZOFFSETFROM:-0700
TZOFFSETTO:-0600
TZNAME:MDT
DTSTART:20230312T090000
END:DAYLIGHT
BEGIN:STANDARD
TZOFFSETFROM:-0600
TZOFFSETTO:-0700
TZNAME:MST
DTSTART:20231105T080000
END:STANDARD
BEGIN:DAYLIGHT
TZOFFSETFROM:-0700
TZOFFSETTO:-0600
TZNAME:MDT
DTSTART:20240310T090000
END:DAYLIGHT
BEGIN:STANDARD
TZOFFSETFROM:-0600
TZOFFSETTO:-0700
TZNAME:MST
DTSTART:20241103T080000
END:STANDARD
END:VTIMEZONE
BEGIN:VEVENT
DTSTART;TZID=America/Denver:20231205T180000
DTEND;TZID=America/Denver:20231205T200000
DTSTAMP:20260425T100025
CREATED:20231117T162436Z
LAST-MODIFIED:20231128T181512Z
UID:10000311-1701799200-1701806400@svgd.org
SUMMARY:Serving Dinner at The Delores Project Women's Safehouse!
DESCRIPTION:Serving Dinner at the Delores Project Women’s Safehouse\,Tues. Dec. 5th\, 6-8 PM\, 6 Volunteers are needed. (This event is now on Waiting List status.  If you sign up you will receive the automated response but will only be contacted with the details if there is a volunteer cancellation.) This is a fantastic facility that assists homeless women who have been in challenging situations!  We can help bring some Holiday joy there while serving dinner & talking to residents as they come through the dinner line!  The food is provided\, we just need to heat it up and serve it to the residents as they come through the line.  In addition to serving the food we will eat dinner towards the end of our shift prior to packing up the food items for storage. Volunteers will need to submit their COVID vaccination card prior to the event so sign up soon so we can get that to them.   So many of our volunteers request this event!  We have assisted this women’s safe shelter several times and they have asked us back as we have fantastic groups of volunteers. The shelter is in West Denver. This is a confidential location that is given out to the volunteers after registering due to the nature of the facility.  Both male & female volunteers are welcome to assist at this event.
URL:https://svgd.org/event/serving-dinner-at-the-delores-project-womens-safehouse-8/
ORGANIZER;CN="SVGD":MAILTO:Event@svgd.org
END:VEVENT
BEGIN:VEVENT
DTSTART;TZID=America/Denver:20231216T113000
DTEND;TZID=America/Denver:20231216T150000
DTSTAMP:20260425T100025
CREATED:20231201T163032Z
LAST-MODIFIED:20231215T220137Z
UID:10000233-1702726200-1702738800@svgd.org
SUMMARY:Lavished with Love Holiday Meal benefiting low-income families!
DESCRIPTION:Lavished with Love Holiday Meal benefiting low-income families\, Sat. Dec. 16th\, 11:30AM-3PM\, 6 volunteers are needed. (This event has filled.  If you sign up you will only be contacted if we get a volunteer cancellation) This event is sponsored by the Iron Sharp Community Foundation.  The event will be held at an Aurora elementary school. There are three shifts during the day.  We are on the second shift. The mission is to support students & families experiencing challenges such as homelessness\, temporary living situations\, and living in poverty.  There will be a cozy\, family-style meal and also several provided resources such as brand-new winter coats\, barber services\, youth violence prevention resources\, health & safety resources\, literacy support\, holiday photos\, a delightful hot cocoa bar\, creative cookie decorating crafts and much more.  The goal of the event is to touch the lives of over 1\,000 students and families!  This should be a very fulfilling Holiday event to help those with needs\, especially during the Holiday Season!
URL:https://svgd.org/event/lavished-with-love-holiday-meal-benefiting-low-income-families/
ORGANIZER;CN="SVGD":MAILTO:Event@svgd.org
END:VEVENT
END:VCALENDAR