BEGIN:VCALENDAR
VERSION:2.0
PRODID:-//Single Volunteers of Greater Denver - ECPv6.15.20//NONSGML v1.0//EN
CALSCALE:GREGORIAN
METHOD:PUBLISH
X-WR-CALNAME:Single Volunteers of Greater Denver
X-ORIGINAL-URL:https://svgd.org
X-WR-CALDESC:Events for Single Volunteers of Greater Denver
REFRESH-INTERVAL;VALUE=DURATION:PT1H
X-Robots-Tag:noindex
X-PUBLISHED-TTL:PT1H
BEGIN:VTIMEZONE
TZID:America/Denver
BEGIN:DAYLIGHT
TZOFFSETFROM:-0700
TZOFFSETTO:-0600
TZNAME:MDT
DTSTART:20220313T090000
END:DAYLIGHT
BEGIN:STANDARD
TZOFFSETFROM:-0600
TZOFFSETTO:-0700
TZNAME:MST
DTSTART:20221106T080000
END:STANDARD
BEGIN:DAYLIGHT
TZOFFSETFROM:-0700
TZOFFSETTO:-0600
TZNAME:MDT
DTSTART:20230312T090000
END:DAYLIGHT
BEGIN:STANDARD
TZOFFSETFROM:-0600
TZOFFSETTO:-0700
TZNAME:MST
DTSTART:20231105T080000
END:STANDARD
BEGIN:DAYLIGHT
TZOFFSETFROM:-0700
TZOFFSETTO:-0600
TZNAME:MDT
DTSTART:20240310T090000
END:DAYLIGHT
BEGIN:STANDARD
TZOFFSETFROM:-0600
TZOFFSETTO:-0700
TZNAME:MST
DTSTART:20241103T080000
END:STANDARD
END:VTIMEZONE
BEGIN:VEVENT
DTSTART;TZID=America/Denver:20231104T100000
DTEND;TZID=America/Denver:20231104T140000
DTSTAMP:20260425T113113
CREATED:20231017T150929Z
LAST-MODIFIED:20231103T010917Z
UID:10000308-1699092000-1699106400@svgd.org
SUMMARY:Habitat for Humanity ReStore!
DESCRIPTION:Habitat for Humanity ReStore\, Sat. Nov. 4th\, 10AM-2PM\, 5 Volunteers are needed. (This event is now on Waiting List status.  If you sign up you will receive the automated response but will only be contacted with details if we have a volunteer cancellation.)We will be helping at the Littleton ReStore on Quincy. We’ve helped them many times previously.  We normally are helping to stock donations onto the shelves\, straighten up or rearrange some of the areas\, and sometimes help with accepting incoming donations & outgoing purchases. There is free parking and a lunch break.  Customers shop at the ReStore for new and gently used appliances\, furniture\, home remodeling supplies\, pictures\, and more at huge discounts. All profits support Habitat for Humanity’s home ownership program for low-income families.  Habitat for Humanity of Metro Denver builds and sells homes to hard-working people in need of decent and affordable housing. Habitat for Humanity of Metro Denver is part of a global\, nonprofit housing organization that seeks to put God’s love into action by building homes\, communities and hope.
URL:https://svgd.org/event/habitat-for-humanity-restore-4/
ORGANIZER;CN="SVGD":MAILTO:Event@svgd.org
END:VEVENT
BEGIN:VEVENT
DTSTART;TZID=America/Denver:20231109T163000
DTEND;TZID=America/Denver:20231109T183000
DTSTAMP:20260425T113113
CREATED:20231029T153234Z
LAST-MODIFIED:20231107T155955Z
UID:10000309-1699547400-1699554600@svgd.org
SUMMARY:Serving Dinner at the Denver Rescue Mission!
DESCRIPTION:Serving Dinner at the Denver Rescue Mission\, Thurs. Nov. 9th\, 4:30-6:30PM\, 5 Volunteers are needed. (This event is now on Waiting List status.  If you sign up you will get the automated response but will only be emailed the details if we get a volunteer cancellation.) We will be serving dinner to the homeless in their Downtown facility. They do have two free parking areas for the volunteers.  For some of the guests\, the meals they serve at the Mission are the only source of nutrition they receive.  They say that “with each healthy meal comes strength to face the new challenges of each day.”  They serve over 600\,000 meals to the hungry each year.  We have helped them several times before.  The volunteers truly find this to be a worthwhile cause & enjoy the experience! 
URL:https://svgd.org/event/serving-dinner-at-the-denver-rescue-mission-6/
ORGANIZER;CN="SVGD":MAILTO:Event@svgd.org
END:VEVENT
BEGIN:VEVENT
DTSTART;TZID=America/Denver:20231118T103000
DTEND;TZID=America/Denver:20231118T140000
DTSTAMP:20260425T113113
CREATED:20231105T170134Z
LAST-MODIFIED:20231116T233253Z
UID:10000310-1700303400-1700316000@svgd.org
SUMMARY:Thanksgiving Food Distribution for Jeffco Action Center!
DESCRIPTION:Thanksgiving Food Distribution for the Jeffco Action Center\, Saturday\, November 18th\, 10:45AM-2PM\, 8 volunteers are needed (This event is now on Waiting List status. If you sign up you will receive the automated response but will only be contacted with the details if we have a volunteer cancellation).  We will be helping the low-income families in Jefferson County so that they are able to have a Thanksgiving Dinner for their family.  The event is in Lakewood on the Saturday prior to Thanksgiving.  Previously when we’ve helped them they have assisted over 5\,000 families!  We will help direct the car lines & will hand out boxes that contain the fixings for them to prepare a Thanksgiving dinner for their household.  Usually\, the box also contains a coupon to pick up a free turkey or ham at a local store.  It is such a good feeling to help the families that would not otherwise be able to have a Thanksgiving dinner at their homes.  They are so very grateful for the assistance!  Before you have your Thanksgiving\, please help those who are hoping to have one!
URL:https://svgd.org/event/thanksgiving-food-distribution-for-jeffco-action-center/
ORGANIZER;CN="SVGD":MAILTO:Event@svgd.org
END:VEVENT
END:VCALENDAR