BEGIN:VCALENDAR
VERSION:2.0
PRODID:-//Single Volunteers of Greater Denver - ECPv6.15.20//NONSGML v1.0//EN
CALSCALE:GREGORIAN
METHOD:PUBLISH
X-WR-CALNAME:Single Volunteers of Greater Denver
X-ORIGINAL-URL:https://svgd.org
X-WR-CALDESC:Events for Single Volunteers of Greater Denver
REFRESH-INTERVAL;VALUE=DURATION:PT1H
X-Robots-Tag:noindex
X-PUBLISHED-TTL:PT1H
BEGIN:VTIMEZONE
TZID:America/Denver
BEGIN:DAYLIGHT
TZOFFSETFROM:-0700
TZOFFSETTO:-0600
TZNAME:MDT
DTSTART:20220313T090000
END:DAYLIGHT
BEGIN:STANDARD
TZOFFSETFROM:-0600
TZOFFSETTO:-0700
TZNAME:MST
DTSTART:20221106T080000
END:STANDARD
BEGIN:DAYLIGHT
TZOFFSETFROM:-0700
TZOFFSETTO:-0600
TZNAME:MDT
DTSTART:20230312T090000
END:DAYLIGHT
BEGIN:STANDARD
TZOFFSETFROM:-0600
TZOFFSETTO:-0700
TZNAME:MST
DTSTART:20231105T080000
END:STANDARD
BEGIN:DAYLIGHT
TZOFFSETFROM:-0700
TZOFFSETTO:-0600
TZNAME:MDT
DTSTART:20240310T090000
END:DAYLIGHT
BEGIN:STANDARD
TZOFFSETFROM:-0600
TZOFFSETTO:-0700
TZNAME:MST
DTSTART:20241103T080000
END:STANDARD
END:VTIMEZONE
BEGIN:VEVENT
DTSTART;TZID=America/Denver:20230805T083000
DTEND;TZID=America/Denver:20230805T123000
DTSTAMP:20260425T192601
CREATED:20230721T141647Z
LAST-MODIFIED:20230729T164650Z
UID:10000300-1691224200-1691238600@svgd.org
SUMMARY:School Supply Distribution for Jeffco Action Center!
DESCRIPTION:School Supply Distribution for the Jeffco Action Center\, Sat. Aug 5th\, 8:30AM-12:30PM\, 6 Volunteers are needed. We will be helping to staff the school supply distribution. We have helped them several times before and always enjoy the experience.  You will make an impact by helping low-income students be prepared and excited to start school. This will help approx. 5000 students in Jefferson County\,  which has the highest number of identified homeless students in Colorado\, over a 6-day distribution period. The event will be held at a Middle school in Wheat Ridge. We are divided into areas serving different age groups of children. Parents pick up backpacks for their children which are filled with appropriate school supplies.
URL:https://svgd.org/event/school-supply-distribution-for-jeffco-action-center-2/
ORGANIZER;CN="SVGD":MAILTO:Event@svgd.org
END:VEVENT
BEGIN:VEVENT
DTSTART;TZID=America/Denver:20230819T163000
DTEND;TZID=America/Denver:20230819T193000
DTSTAMP:20260425T192601
CREATED:20230804T161703Z
LAST-MODIFIED:20230812T152527Z
UID:10000301-1692462600-1692473400@svgd.org
SUMMARY:Butterfly Ball benefiting the Butterfly Pavilion!
DESCRIPTION:Butterfly Ball benefiting the Butterfly Pavilion\, Sat. Aug. 19th 4:30-7:30PM\, 6 Volunteers are needed. (This event is now on Waiting List status. If you sign up you will receive the automated responses but will only be contacted with the details if there is a volunteer cancellation.)  We will be assisting as Greeters.  This is a gala with a champagne welcome\, cocktail reception\, silent & live auctions\, seated dinner\, program\, and dancing. They even have a magical stroll through a “Monarch Menangerie” filled with 400 live butterflies. It will be held in a Broomfield hotel.  Our volunteers will receive dinner and will have an opportunity to enjoy the event as the dinner\, program\, live auction\, and dancing starts at 7:30PM. The Butterfly Pavilion is the first stand-alone\, Association of Zoos and Aquariums-accredited non-profit invertebrate zoo in the world and a leader in invertebrate\, inspiration and connection!
URL:https://svgd.org/event/butterfly-ball-benefiting-the-butterfly-pavilion/
ORGANIZER;CN="SVGD":MAILTO:Event@svgd.org
END:VEVENT
END:VCALENDAR