BEGIN:VCALENDAR
VERSION:2.0
PRODID:-//Single Volunteers of Greater Denver - ECPv6.15.20//NONSGML v1.0//EN
CALSCALE:GREGORIAN
METHOD:PUBLISH
X-WR-CALNAME:Single Volunteers of Greater Denver
X-ORIGINAL-URL:https://svgd.org
X-WR-CALDESC:Events for Single Volunteers of Greater Denver
REFRESH-INTERVAL;VALUE=DURATION:PT1H
X-Robots-Tag:noindex
X-PUBLISHED-TTL:PT1H
BEGIN:VTIMEZONE
TZID:America/Denver
BEGIN:DAYLIGHT
TZOFFSETFROM:-0700
TZOFFSETTO:-0600
TZNAME:MDT
DTSTART:20250309T090000
END:DAYLIGHT
BEGIN:STANDARD
TZOFFSETFROM:-0600
TZOFFSETTO:-0700
TZNAME:MST
DTSTART:20251102T080000
END:STANDARD
BEGIN:DAYLIGHT
TZOFFSETFROM:-0700
TZOFFSETTO:-0600
TZNAME:MDT
DTSTART:20260308T090000
END:DAYLIGHT
BEGIN:STANDARD
TZOFFSETFROM:-0600
TZOFFSETTO:-0700
TZNAME:MST
DTSTART:20261101T080000
END:STANDARD
BEGIN:DAYLIGHT
TZOFFSETFROM:-0700
TZOFFSETTO:-0600
TZNAME:MDT
DTSTART:20270314T090000
END:DAYLIGHT
BEGIN:STANDARD
TZOFFSETFROM:-0600
TZOFFSETTO:-0700
TZNAME:MST
DTSTART:20271107T080000
END:STANDARD
END:VTIMEZONE
BEGIN:VEVENT
DTSTART;TZID=America/Denver:20260517T073000
DTEND;TZID=America/Denver:20260517T123000
DTSTAMP:20260423T151341
CREATED:20260322T151607Z
LAST-MODIFIED:20260322T153915Z
UID:10000394-1779003000-1779021000@svgd.org
SUMMARY:Colfax Marathon Fundraiser- 1st Shift!
DESCRIPTION:Colfax Marathon Fundraiser\, Sun. May 17\, 7:30AM-12:30PM (the first shift)\, 6 volunteers are needed.  We will be running the Beer Garden at City Park!  The Colfax Marathon is in its 18th year and is a 2-day event with 8 races.  It has unique courses incorporating the iconic landmarks of the Mile-High City.  We will be assisting on the second day when the races are ending and the racers need a drink!  Each year the Colfax Marathon partners with over 200 nonprofits\, who have collectively raised over $3 million in the past 6 years!  It should be a great time while helping several many worthy non profits!  You will receive a Colfax Marathon shirt and snacks during our shift.  They want me to tell them all the Tshirt sizes by April 15th so I’m trying to get most of our registrations by then.  Please sign up soon if you can help!!  They are even giving some funds to help support our non profit if we have all 12 volunteers that they need and cover both shifts.  We did the event last year and really enjoyed the experience!
URL:https://svgd.org/event/colfax-marathon-fundraiser-1st-shift-2/
END:VEVENT
BEGIN:VEVENT
DTSTART;TZID=America/Denver:20260517T090000
DTEND;TZID=America/Denver:20260517T140000
DTSTAMP:20260423T151341
CREATED:20260322T152202Z
LAST-MODIFIED:20260322T152202Z
UID:10000395-1779008400-1779026400@svgd.org
SUMMARY:Colfax Marathon Fundraiser- 2nd Shift!
DESCRIPTION:Colfax Marathon Fundraiser\, Sun. May 17\, 9:00AM-2:00PM (the second shift)\, 6 volunteers are needed.  We will be running the Beer Garden at City Park!  The Colfax Marathon is in its 18th year and is a 2-day event with 8 races.  It has unique courses incorporating the iconic landmarks of the Mile-High City.  We will be assisting on the second day when the races are ending and the racers need a drink!  Each year the Colfax Marathon partners with over 200 nonprofits\, who have collectively raised over $3 million in the past 6 years!  It should be a great time while helping several many worthy non profits!  You will receive a Colfax Marathon shirt and snacks during our shift.  They want me to tell them all the Tshirt sizes by April 15th so I’m trying to get most of our registrations by then.  Please sign up soon if you can help!!  They are even giving some funds to help support our non profit if we have all 12 volunteers that they need and cover both shifts.  We did the event last year and really enjoyed the experience!
URL:https://svgd.org/event/colfax-marathon-fundraiser-2nd-shift-2/
ORGANIZER;CN="SVGD":MAILTO:Event@svgd.org
END:VEVENT
END:VCALENDAR