BEGIN:VCALENDAR
VERSION:2.0
PRODID:-//Single Volunteers of Greater Denver - ECPv6.15.20//NONSGML v1.0//EN
CALSCALE:GREGORIAN
METHOD:PUBLISH
X-WR-CALNAME:Single Volunteers of Greater Denver
X-ORIGINAL-URL:https://svgd.org
X-WR-CALDESC:Events for Single Volunteers of Greater Denver
REFRESH-INTERVAL;VALUE=DURATION:PT1H
X-Robots-Tag:noindex
X-PUBLISHED-TTL:PT1H
BEGIN:VTIMEZONE
TZID:America/Denver
BEGIN:DAYLIGHT
TZOFFSETFROM:-0700
TZOFFSETTO:-0600
TZNAME:MDT
DTSTART:20190310T090000
END:DAYLIGHT
BEGIN:STANDARD
TZOFFSETFROM:-0600
TZOFFSETTO:-0700
TZNAME:MST
DTSTART:20191103T080000
END:STANDARD
BEGIN:DAYLIGHT
TZOFFSETFROM:-0700
TZOFFSETTO:-0600
TZNAME:MDT
DTSTART:20200308T090000
END:DAYLIGHT
BEGIN:STANDARD
TZOFFSETFROM:-0600
TZOFFSETTO:-0700
TZNAME:MST
DTSTART:20201101T080000
END:STANDARD
BEGIN:DAYLIGHT
TZOFFSETFROM:-0700
TZOFFSETTO:-0600
TZNAME:MDT
DTSTART:20210314T090000
END:DAYLIGHT
BEGIN:STANDARD
TZOFFSETFROM:-0600
TZOFFSETTO:-0700
TZNAME:MST
DTSTART:20211107T080000
END:STANDARD
END:VTIMEZONE
BEGIN:VEVENT
DTSTART;TZID=America/Denver:20201219T110000
DTEND;TZID=America/Denver:20201219T133000
DTSTAMP:20260424T095037
CREATED:20201202T231150Z
LAST-MODIFIED:20201218T175758Z
UID:10000189-1608375600-1608384600@svgd.org
SUMMARY:Serving Lunch at the Delores Project Women's Safehouse
DESCRIPTION:Serving Lunch at the Delores Project Women’s Safehouse\, Sat. Dec. 19th\,11AM-1PM 4 Volunteers are needed.The Delores Project has also made adjustments due to the pandemic to make us safe as well as the residents safe.  The kitchen and dining room are cleaned before and after each meal.  The dining room is arranged for social distancing and they only have a capacity of 32 and do regular COVID testing.  We will be wearing masks & will be provided disposable gloves.  Our group will just be in the kitchen.  The food is provided\, we just need to heat it up and arrange it for the residents as they come through.  We will be serving the food but will be in the kitchen area so will not be touching the residents.   So many of our volunteers have been requesting this event!  We have assisted this women’s safe shelter several times and they have asked us back as we have fantastic groups of volunteers.  This was a regular event for us due to the interest from our volunteers.  The shelter is in West Denver. This is a confidential location that is given out to the volunteers after registering due to the nature of the facility.  Both male & female volunteers are welcome to assist at this event.
URL:https://svgd.org/event/serving-lunch-at-the-delores-project-womens-safehouse/
CATEGORIES:Serving Food
ATTACH;FMTTYPE=image/jpeg:https://svgd.org/wp-content/uploads/2020/09/volunteer-image.jpg
ORGANIZER;CN="SVGD":MAILTO:Event@svgd.org
END:VEVENT
BEGIN:VEVENT
DTSTART;TZID=America/Denver:20201117T163000
DTEND;TZID=America/Denver:20201117T193000
DTSTAMP:20260424T095037
CREATED:20201028T162740Z
LAST-MODIFIED:20201114T001239Z
UID:10000185-1605630600-1605641400@svgd.org
SUMMARY:Serving Dinner at The Crossing Transitional Shelter!
DESCRIPTION:5 volunteers are needed.\nMany of our volunteers request this event because they enjoy it and feel that it is such a worthwhile organization. The Crossing is a transitional facility between the homeless shelter and getting back into a home. The residents are working and saving up for a place to live. It is drug & alcohol free. Men\, women & families reside there. It provides a great service as people work to get back on their feet. \nOur volunteers will help in the buffet line and may help with some of the meal bags for those who come back from work after dinner time. After we serve dinner we will have an opportunity to eat as a group and also enjoy the meal. We then do a few minutes of clean up and straightening in the dining room. They specifically contacted us to help as they are very short on volunteers this Fall!  \nThis facility is also trying to keep everything safe for volunteers during the pandemic. Each volunteer should wear a mask. Gloves will be provided. We will be behind the counter & plexi-glass when serving food and all tables will be sanitized plus there are sinks for handwashing and sanitizer. \nThis should be a great opportunity to help the community shortly before the Thanksgiving Holiday!
URL:https://svgd.org/event/serving-dinner-at-the-crossing-transitional-shelter/
CATEGORIES:Serving Food
ATTACH;FMTTYPE=image/jpeg:https://svgd.org/wp-content/uploads/2020/09/volunteer-image.jpg
ORGANIZER;CN="SVGD":MAILTO:Event@svgd.org
END:VEVENT
END:VCALENDAR