BEGIN:VCALENDAR
VERSION:2.0
PRODID:-//Single Volunteers of Greater Denver - ECPv6.15.20//NONSGML v1.0//EN
CALSCALE:GREGORIAN
METHOD:PUBLISH
X-ORIGINAL-URL:https://svgd.org
X-WR-CALDESC:Events for Single Volunteers of Greater Denver
REFRESH-INTERVAL;VALUE=DURATION:PT1H
X-Robots-Tag:noindex
X-PUBLISHED-TTL:PT1H
BEGIN:VTIMEZONE
TZID:America/Denver
BEGIN:DAYLIGHT
TZOFFSETFROM:-0700
TZOFFSETTO:-0600
TZNAME:MDT
DTSTART:20250309T090000
END:DAYLIGHT
BEGIN:STANDARD
TZOFFSETFROM:-0600
TZOFFSETTO:-0700
TZNAME:MST
DTSTART:20251102T080000
END:STANDARD
BEGIN:DAYLIGHT
TZOFFSETFROM:-0700
TZOFFSETTO:-0600
TZNAME:MDT
DTSTART:20260308T090000
END:DAYLIGHT
BEGIN:STANDARD
TZOFFSETFROM:-0600
TZOFFSETTO:-0700
TZNAME:MST
DTSTART:20261101T080000
END:STANDARD
BEGIN:DAYLIGHT
TZOFFSETFROM:-0700
TZOFFSETTO:-0600
TZNAME:MDT
DTSTART:20270314T090000
END:DAYLIGHT
BEGIN:STANDARD
TZOFFSETFROM:-0600
TZOFFSETTO:-0700
TZNAME:MST
DTSTART:20271107T080000
END:STANDARD
END:VTIMEZONE
BEGIN:VEVENT
DTSTART;TZID=America/Denver:20260509T153000
DTEND;TZID=America/Denver:20260509T200000
DTSTAMP:20260423T121034
CREATED:20260419T163215Z
LAST-MODIFIED:20260419T235304Z
UID:10000399-1778340600-1778356800@svgd.org
SUMMARY:Postal Carriers- Stamp Out Hunger event!
DESCRIPTION:Postal Carriers-Stamp Out Hunger\, Sat. May 9\, 3:30-8:00PM\, 6 volunteers needed.The National Assn. of Letter Carriers is sponsoring an event throughout our Metro area where they will be picking up food donations along their carrier routes & will be bringing it back to their post offices.  We will be inside the docks at a Post Office (near Pecos/76th) to help unload and sort the food so trucks can take it back to the Action Center where it will be distributed to low-income families.   It is a very worthwhile event that will make quite a difference for low-income families!  After the event we are inviting the volunteers to have a social experience at a BBQ restaurant that is in the adjoining parking lot.  We helped at this event the  last three years and enjoyed both the event & the social!
URL:https://svgd.org/event/postal-carriers-stamp-out-hunger-event/
ORGANIZER;CN="SVGD":MAILTO:Event@svgd.org
END:VEVENT
END:VCALENDAR