BEGIN:VCALENDAR
VERSION:2.0
PRODID:-//Single Volunteers of Greater Denver - ECPv6.15.20//NONSGML v1.0//EN
CALSCALE:GREGORIAN
METHOD:PUBLISH
X-ORIGINAL-URL:https://svgd.org
X-WR-CALDESC:Events for Single Volunteers of Greater Denver
REFRESH-INTERVAL;VALUE=DURATION:PT1H
X-Robots-Tag:noindex
X-PUBLISHED-TTL:PT1H
BEGIN:VTIMEZONE
TZID:America/Denver
BEGIN:DAYLIGHT
TZOFFSETFROM:-0700
TZOFFSETTO:-0600
TZNAME:MDT
DTSTART:20250309T090000
END:DAYLIGHT
BEGIN:STANDARD
TZOFFSETFROM:-0600
TZOFFSETTO:-0700
TZNAME:MST
DTSTART:20251102T080000
END:STANDARD
BEGIN:DAYLIGHT
TZOFFSETFROM:-0700
TZOFFSETTO:-0600
TZNAME:MDT
DTSTART:20260308T090000
END:DAYLIGHT
BEGIN:STANDARD
TZOFFSETFROM:-0600
TZOFFSETTO:-0700
TZNAME:MST
DTSTART:20261101T080000
END:STANDARD
BEGIN:DAYLIGHT
TZOFFSETFROM:-0700
TZOFFSETTO:-0600
TZNAME:MDT
DTSTART:20270314T090000
END:DAYLIGHT
BEGIN:STANDARD
TZOFFSETFROM:-0600
TZOFFSETTO:-0700
TZNAME:MST
DTSTART:20271107T080000
END:STANDARD
END:VTIMEZONE
BEGIN:VEVENT
DTSTART;TZID=America/Denver:20260328T083000
DTEND;TZID=America/Denver:20260328T120000
DTSTAMP:20260423T121027
CREATED:20260307T162059Z
LAST-MODIFIED:20260321T145832Z
UID:10000392-1774686600-1774699200@svgd.org
SUMMARY:Clothing Donation Sorting for Jeffco Action Center!
DESCRIPTION:Clothing Donation Sorting for Jeffco Action Center\, Sat.\,March 28th\, 8:45AM-11:45AM. 6 Volunteers are needed to help sort the donated clothing for the busy week ahead. (We still need 1 volunteer for this event!) We sort the clothing by size & type\, put the items on hangers\, and then they are hung in the store in the adjoining room. During the week people in need shop with volunteer shoppers in their donation “store” that is set up by sizes and types of clothing just like a regular store.  They are told how many items they can receive at the store and are given a time limit for their shopping. We have helped with this portion of their center’s activities before and really enjoyed the experience!! The Action Center’s mission is to provide an immediate response to basic human needs and promote pathways to self-sufficiency for Jefferson County residents and the homeless.  They are located in Lakewood.  I’m really happy that we are able to assist again as our volunteers always love this event!
URL:https://svgd.org/event/clothing-donation-sorting-for-jeffco-action-center-2/
ORGANIZER;CN="SVGD":MAILTO:Event@svgd.org
END:VEVENT
END:VCALENDAR