BEGIN:VCALENDAR
VERSION:2.0
PRODID:-//Single Volunteers of Greater Denver - ECPv6.15.20//NONSGML v1.0//EN
CALSCALE:GREGORIAN
METHOD:PUBLISH
X-ORIGINAL-URL:https://svgd.org
X-WR-CALDESC:Events for Single Volunteers of Greater Denver
REFRESH-INTERVAL;VALUE=DURATION:PT1H
X-Robots-Tag:noindex
X-PUBLISHED-TTL:PT1H
BEGIN:VTIMEZONE
TZID:America/Denver
BEGIN:DAYLIGHT
TZOFFSETFROM:-0700
TZOFFSETTO:-0600
TZNAME:MDT
DTSTART:20250309T090000
END:DAYLIGHT
BEGIN:STANDARD
TZOFFSETFROM:-0600
TZOFFSETTO:-0700
TZNAME:MST
DTSTART:20251102T080000
END:STANDARD
BEGIN:DAYLIGHT
TZOFFSETFROM:-0700
TZOFFSETTO:-0600
TZNAME:MDT
DTSTART:20260308T090000
END:DAYLIGHT
BEGIN:STANDARD
TZOFFSETFROM:-0600
TZOFFSETTO:-0700
TZNAME:MST
DTSTART:20261101T080000
END:STANDARD
BEGIN:DAYLIGHT
TZOFFSETFROM:-0700
TZOFFSETTO:-0600
TZNAME:MDT
DTSTART:20270314T090000
END:DAYLIGHT
BEGIN:STANDARD
TZOFFSETFROM:-0600
TZOFFSETTO:-0700
TZNAME:MST
DTSTART:20271107T080000
END:STANDARD
END:VTIMEZONE
BEGIN:VEVENT
DTSTART;TZID=America/Denver:20260228T170000
DTEND;TZID=America/Denver:20260228T203000
DTSTAMP:20260423T135941
CREATED:20260130T181216Z
LAST-MODIFIED:20260221T181916Z
UID:10000389-1772298000-1772310600@svgd.org
SUMMARY:Affair for Air Gala for the American Lung Assn.!
DESCRIPTION:Affair for Air Gala benefiting the American Lung Assn.\, Sat. February 28th\, 5:00-8:30PM\, 6 Volunteers are needed (This event is now on Waiting List status.  If you sign up you will receive the automated responses but will only be contacted with the details if we get a volunteer cancellation). We will primarily be helping with their Studio Loft table assisting with paddle numbers\, name cards\, table numbers etc.  and as Paddle scribes recording the paddle numbers that are raised during the “Fund Our Mission” paddle raise and/or collect paddles during their “$100 sweep” . This event will be held at the Downtown Opera House.  Roaring 20’s attire is encouraged!  It should be a magical evening. We will be provided dinner and will get to enjoy the event!  They are having a cocktail reception & silent auction at the beginning; then a dinner\, program & live auction; followed by dancing and entertainment. The event actually goes until 10PM so you are welcome to stay and enjoy!  This is one of the type of events where we can help a good cause while also having a great meal and a good time!  The American Lung Assn. supports Coloradans living with lung disease\, including those who have been affected by COVID-19.
URL:https://svgd.org/event/affair-for-air-gala-for-the-american-lung-assn/
ORGANIZER;CN="SVGD":MAILTO:Event@svgd.org
END:VEVENT
END:VCALENDAR