BEGIN:VCALENDAR
VERSION:2.0
PRODID:-//Single Volunteers of Greater Denver - ECPv6.15.20//NONSGML v1.0//EN
CALSCALE:GREGORIAN
METHOD:PUBLISH
X-ORIGINAL-URL:https://svgd.org
X-WR-CALDESC:Events for Single Volunteers of Greater Denver
REFRESH-INTERVAL;VALUE=DURATION:PT1H
X-Robots-Tag:noindex
X-PUBLISHED-TTL:PT1H
BEGIN:VTIMEZONE
TZID:America/Denver
BEGIN:DAYLIGHT
TZOFFSETFROM:-0700
TZOFFSETTO:-0600
TZNAME:MDT
DTSTART:20240310T090000
END:DAYLIGHT
BEGIN:STANDARD
TZOFFSETFROM:-0600
TZOFFSETTO:-0700
TZNAME:MST
DTSTART:20241103T080000
END:STANDARD
BEGIN:DAYLIGHT
TZOFFSETFROM:-0700
TZOFFSETTO:-0600
TZNAME:MDT
DTSTART:20250309T090000
END:DAYLIGHT
BEGIN:STANDARD
TZOFFSETFROM:-0600
TZOFFSETTO:-0700
TZNAME:MST
DTSTART:20251102T080000
END:STANDARD
BEGIN:DAYLIGHT
TZOFFSETFROM:-0700
TZOFFSETTO:-0600
TZNAME:MDT
DTSTART:20260308T090000
END:DAYLIGHT
BEGIN:STANDARD
TZOFFSETFROM:-0600
TZOFFSETTO:-0700
TZNAME:MST
DTSTART:20261101T080000
END:STANDARD
END:VTIMEZONE
BEGIN:VEVENT
DTSTART;TZID=America/Denver:20251122T100000
DTEND;TZID=America/Denver:20251122T120000
DTSTAMP:20260423T184540
CREATED:20251102T160611Z
LAST-MODIFIED:20251114T161522Z
UID:10000383-1763805600-1763812800@svgd.org
SUMMARY:Denver Feed-A-Family Thanksgiving Box Event!
DESCRIPTION:Denver Feed-A-Family\, Sat. Nov. 22nd\, 10AM-Noon\, 10 Volunteers are needed. (This event is on Waiting List status.  I am checking to see if they can use more volunteers.  If you sign up you will receive a confirmation but will only be emailed the info. if they can use more volunteers or we get a volunteer cancellation.)  We will be helping to pack food into the Thanksgiving boxes for the low-income families.  We will be working as a team. I’ve signed us up for the last shift so we’ll be able to see the families as they come to pick up their Food Boxes that will allow them to have a good Thanksgiving Dinner for their families. We did this event last year for the first time and really enjoyed ourselves!  This event is done in honor of Daddy Bruce Randolph who for years had a BBQ restaurant & gave food away for years so that thousands of people could have a good Thanksgiving.  The event is in the Central Denver area. This is a very worthwhile event that reflects their dedication to nourishing our city and embracing the diversity that makes it thrive.  Please sign up soon so I can get the names of our volunteers in our group to the organization.
URL:https://svgd.org/event/denver-feed-a-family-thanksgiving-box-event/
ORGANIZER;CN="SVGD":MAILTO:Event@svgd.org
END:VEVENT
END:VCALENDAR