BEGIN:VCALENDAR
VERSION:2.0
PRODID:-//Single Volunteers of Greater Denver - ECPv6.15.20//NONSGML v1.0//EN
CALSCALE:GREGORIAN
METHOD:PUBLISH
X-ORIGINAL-URL:https://svgd.org
X-WR-CALDESC:Events for Single Volunteers of Greater Denver
REFRESH-INTERVAL;VALUE=DURATION:PT1H
X-Robots-Tag:noindex
X-PUBLISHED-TTL:PT1H
BEGIN:VTIMEZONE
TZID:America/Denver
BEGIN:DAYLIGHT
TZOFFSETFROM:-0700
TZOFFSETTO:-0600
TZNAME:MDT
DTSTART:20240310T090000
END:DAYLIGHT
BEGIN:STANDARD
TZOFFSETFROM:-0600
TZOFFSETTO:-0700
TZNAME:MST
DTSTART:20241103T080000
END:STANDARD
BEGIN:DAYLIGHT
TZOFFSETFROM:-0700
TZOFFSETTO:-0600
TZNAME:MDT
DTSTART:20250309T090000
END:DAYLIGHT
BEGIN:STANDARD
TZOFFSETFROM:-0600
TZOFFSETTO:-0700
TZNAME:MST
DTSTART:20251102T080000
END:STANDARD
BEGIN:DAYLIGHT
TZOFFSETFROM:-0700
TZOFFSETTO:-0600
TZNAME:MDT
DTSTART:20260308T090000
END:DAYLIGHT
BEGIN:STANDARD
TZOFFSETFROM:-0600
TZOFFSETTO:-0700
TZNAME:MST
DTSTART:20261101T080000
END:STANDARD
END:VTIMEZONE
BEGIN:VEVENT
DTSTART;TZID=America/Denver:20250920T093000
DTEND;TZID=America/Denver:20250920T163000
DTSTAMP:20260423T214120
CREATED:20250908T185307Z
LAST-MODIFIED:20250908T185307Z
UID:10000376-1758360600-1758385800@svgd.org
SUMMARY:Volunteers Needed for Rally for Recovery!
DESCRIPTION:Rally for Recovery\, Sat. Sept. 20\, 9:30AM-4:30PM\, 15 volunteers are needed.  We will be assisting Advocates for Recovery at Civic Center Park in Denver.  They will be having a parade from Union Station to the Park at 11AM. At the park there will be vendors\, events\, food\, & entertainment from the 2025 Recovery’s Got Talent Showcase from Noon til 4PM!  We will be assisting at their AFRC Main Table which gives out Information\, Narcan\, & Prize Ticket Sales; their AFRC T-shirt & Merchandise Table where we will hand out T-shirts\, sell merchandise\, & give out info; and their Hotdogs Station where we will help to cook & serve food!  All this while being able to hear the Talent Showcase!  We’ll divide up so some of our group are floaters to assist at the three areas so our volunteers can have time to enjoy the event also. Advocates for Recovery assists those affected by substance abuse through advocacy\, education\, and peer recovery support services in Colorado communities. It was the first peer-led\, peer-run authentic Recovery Community Organization in Colorado!
URL:https://svgd.org/event/volunteers-needed-for-rally-for-recovery/
ORGANIZER;CN="SVGD":MAILTO:Event@svgd.org
END:VEVENT
BEGIN:VEVENT
DTSTART;TZID=America/Denver:20250920T120000
DTEND;TZID=America/Denver:20250920T160000
DTSTAMP:20260423T214120
CREATED:20250917T193750Z
LAST-MODIFIED:20250919T152347Z
UID:10000377-1758369600-1758384000@svgd.org
SUMMARY:This Saturday Afternoon Volunteer Event!
DESCRIPTION:We’ve now got a shorter shift for 5 volunteers this Saturday\, Sept. 20th for the Rally for Recovery in Civic Center Park!  The actual entertainment & event activities will be from 12-4PM & that’s when they really need us!  We’ll be handing out T-shirts\, free hot dogs\, Narcan\, prize tickets\, and information at 3 booths.  The music talent show will be during that time period.  It will be a lot of fun!  We have another event there listed for a longer period that day but a lot of our group members weren’t able able to be there that long.  We’ve got a few volunteers for the longer shift but if you can help just in the afternoon please sign up so we don’t let them down!  The weather is supposed to be nice that day.  Thank you for considering the opportunity!! I don’t want to let down the non profit!
URL:https://svgd.org/event/this-saturday-afternoon-volunteer-event/
ORGANIZER;CN="SVGD":MAILTO:Event@svgd.org
END:VEVENT
END:VCALENDAR