BEGIN:VCALENDAR
VERSION:2.0
PRODID:-//Single Volunteers of Greater Denver - ECPv6.15.20//NONSGML v1.0//EN
CALSCALE:GREGORIAN
METHOD:PUBLISH
X-WR-CALNAME:Single Volunteers of Greater Denver
X-ORIGINAL-URL:https://svgd.org
X-WR-CALDESC:Events for Single Volunteers of Greater Denver
REFRESH-INTERVAL;VALUE=DURATION:PT1H
X-Robots-Tag:noindex
X-PUBLISHED-TTL:PT1H
BEGIN:VTIMEZONE
TZID:America/Denver
BEGIN:DAYLIGHT
TZOFFSETFROM:-0700
TZOFFSETTO:-0600
TZNAME:MDT
DTSTART:20240310T090000
END:DAYLIGHT
BEGIN:STANDARD
TZOFFSETFROM:-0600
TZOFFSETTO:-0700
TZNAME:MST
DTSTART:20241103T080000
END:STANDARD
BEGIN:DAYLIGHT
TZOFFSETFROM:-0700
TZOFFSETTO:-0600
TZNAME:MDT
DTSTART:20250309T090000
END:DAYLIGHT
BEGIN:STANDARD
TZOFFSETFROM:-0600
TZOFFSETTO:-0700
TZNAME:MST
DTSTART:20251102T080000
END:STANDARD
BEGIN:DAYLIGHT
TZOFFSETFROM:-0700
TZOFFSETTO:-0600
TZNAME:MDT
DTSTART:20260308T090000
END:DAYLIGHT
BEGIN:STANDARD
TZOFFSETFROM:-0600
TZOFFSETTO:-0700
TZNAME:MST
DTSTART:20261101T080000
END:STANDARD
END:VTIMEZONE
BEGIN:VEVENT
DTSTART;TZID=America/Denver:20250919T160000
DTEND;TZID=America/Denver:20250919T213000
DTSTAMP:20260423T214040
CREATED:20250908T175612Z
LAST-MODIFIED:20250910T143957Z
UID:10000375-1758297600-1758317400@svgd.org
SUMMARY:Cornucopia 2025-Metro Caring Fundraiser!
DESCRIPTION:Cornucopia 2025-Metro Caring Fundraiser\, Fri. Sept. 19th\, 4-9:30PM\, 6 volunteers are needed (We can still use 2 more volunteers for this event).  This annual fundraiser has a dinner with a culinary tour of diverse foods & refreshments from around the community plus a program where they recognize change-making leaders & have powerful stories.  It is held at Mile High Station\, a premier event venue\, in Denver.  Our volunteers will meet both the caterers and the lines of people attending the event.  It should be a great celebration!  This worthy non-profit last year distributed over 2+ million pounds of nutritious food to hungry families and individuals which also providing education and tools to help participants improve their health and reach their potential. This event is festive\, fun\, and will help them raise the funds they need this upcoming year to provide their needed food services to the community.
URL:https://svgd.org/event/cornucopia-2025-metro-caring-fundraiser/
ORGANIZER;CN="SVGD":MAILTO:Event@svgd.org
END:VEVENT
END:VCALENDAR