BEGIN:VCALENDAR
VERSION:2.0
PRODID:-//Single Volunteers of Greater Denver - ECPv6.15.20//NONSGML v1.0//EN
CALSCALE:GREGORIAN
METHOD:PUBLISH
X-WR-CALNAME:Single Volunteers of Greater Denver
X-ORIGINAL-URL:https://svgd.org
X-WR-CALDESC:Events for Single Volunteers of Greater Denver
REFRESH-INTERVAL;VALUE=DURATION:PT1H
X-Robots-Tag:noindex
X-PUBLISHED-TTL:PT1H
BEGIN:VTIMEZONE
TZID:America/Denver
BEGIN:DAYLIGHT
TZOFFSETFROM:-0700
TZOFFSETTO:-0600
TZNAME:MDT
DTSTART:20240310T090000
END:DAYLIGHT
BEGIN:STANDARD
TZOFFSETFROM:-0600
TZOFFSETTO:-0700
TZNAME:MST
DTSTART:20241103T080000
END:STANDARD
BEGIN:DAYLIGHT
TZOFFSETFROM:-0700
TZOFFSETTO:-0600
TZNAME:MDT
DTSTART:20250309T090000
END:DAYLIGHT
BEGIN:STANDARD
TZOFFSETFROM:-0600
TZOFFSETTO:-0700
TZNAME:MST
DTSTART:20251102T080000
END:STANDARD
BEGIN:DAYLIGHT
TZOFFSETFROM:-0700
TZOFFSETTO:-0600
TZNAME:MDT
DTSTART:20260308T090000
END:DAYLIGHT
BEGIN:STANDARD
TZOFFSETFROM:-0600
TZOFFSETTO:-0700
TZNAME:MST
DTSTART:20261101T080000
END:STANDARD
END:VTIMEZONE
BEGIN:VEVENT
DTSTART;TZID=America/Denver:20250916T170000
DTEND;TZID=America/Denver:20250916T190000
DTSTAMP:20260423T214041
CREATED:20250904T211358Z
LAST-MODIFIED:20250909T232622Z
UID:10000374-1758042000-1758049200@svgd.org
SUMMARY:Volunteers Needed- Prep for Metro Caring's Fundraiser!
DESCRIPTION:Prep for Metro Caring’s Fundraiser\, Tues. Sept. 16th\, 5:00-7PM\, 6-8 Volunteers are needed. (We can still use 2 more volunteers for this event). We will be helping them get ready for the Friday’s Fundraiser.  They are short-staffed due to their funding so we’re going to help them get ready for their big event.  It won’t be hard work-we’ll be helping them get their name tags made & the goody bags done for their attendees. We will be in two conference rooms in their main facility that distributes the food.  The work won’t be hard but is much needed. The Metro Caring relieves hunger while also addressing the root causes of that hunger.  The event will be in Central Denver.  There is free parking nearby.  This worthy non profit which last year distributed over 2+ million pounds of nutritious food to hungry families & individuals while also providing education and tools to help participants improve their health and reach their potential. 
URL:https://svgd.org/event/volunteers-needed-prep-for-metro-carings-fundraiser/
ORGANIZER;CN="SVGD":MAILTO:Event@svgd.org
END:VEVENT
END:VCALENDAR