BEGIN:VCALENDAR
VERSION:2.0
PRODID:-//Single Volunteers of Greater Denver - ECPv6.15.20//NONSGML v1.0//EN
CALSCALE:GREGORIAN
METHOD:PUBLISH
X-WR-CALNAME:Single Volunteers of Greater Denver
X-ORIGINAL-URL:https://svgd.org
X-WR-CALDESC:Events for Single Volunteers of Greater Denver
REFRESH-INTERVAL;VALUE=DURATION:PT1H
X-Robots-Tag:noindex
X-PUBLISHED-TTL:PT1H
BEGIN:VTIMEZONE
TZID:America/Denver
BEGIN:DAYLIGHT
TZOFFSETFROM:-0700
TZOFFSETTO:-0600
TZNAME:MDT
DTSTART:20240310T090000
END:DAYLIGHT
BEGIN:STANDARD
TZOFFSETFROM:-0600
TZOFFSETTO:-0700
TZNAME:MST
DTSTART:20241103T080000
END:STANDARD
BEGIN:DAYLIGHT
TZOFFSETFROM:-0700
TZOFFSETTO:-0600
TZNAME:MDT
DTSTART:20250309T090000
END:DAYLIGHT
BEGIN:STANDARD
TZOFFSETFROM:-0600
TZOFFSETTO:-0700
TZNAME:MST
DTSTART:20251102T080000
END:STANDARD
BEGIN:DAYLIGHT
TZOFFSETFROM:-0700
TZOFFSETTO:-0600
TZNAME:MDT
DTSTART:20260308T090000
END:DAYLIGHT
BEGIN:STANDARD
TZOFFSETFROM:-0600
TZOFFSETTO:-0700
TZNAME:MST
DTSTART:20261101T080000
END:STANDARD
END:VTIMEZONE
BEGIN:VEVENT
DTSTART;TZID=America/Denver:20250906T090000
DTEND;TZID=America/Denver:20250906T143000
DTSTAMP:20260423T213953
CREATED:20250809T224749Z
LAST-MODIFIED:20250829T194343Z
UID:10000370-1757149200-1757169000@svgd.org
SUMMARY:Colorado Dragon Boat Festival- Shift 1
DESCRIPTION:Colorado Dragon Boat Festival\, Sat. Sept. 6th\, 9AM-2:30PM\, 6 Volunteers are needed. SHIFT 1. (This shift is currently on Waiting List status.  We have openings on the 2 other shifts.  If you register for this one you will only be contacted with the information if we get a volunteer cancellation). We will be running a 2-day Pepsi products booth by the Band Stage that also has a view of the lake!  The event runs from 10AM-7PM so you can watch the races\, enjoy the entertainment\, taste food\, tour the market area & more after that!  This is their 25th year Anniversary!  They are expecting 200\,000 to people attend this 2-day event which is the largest of its kind in the nation celebrating the traditional Chinese holiday- this year is The Year of the Wood Snake Celebration that will showcase our many local Asian cultures.   It is held at Sloan’s Lake and has over almost 50 teams from across the world competing in the dragon boat race\, a performing arts stage\, an Asian market place\, a taste of Asian food court & more!!  We’ve helped them several times previously and always enjoyed the experience! 
URL:https://svgd.org/event/colorado-dragon-boat-festival-shift-1/
ORGANIZER;CN="SVGD":MAILTO:Event@svgd.org
END:VEVENT
BEGIN:VEVENT
DTSTART;TZID=America/Denver:20250906T140000
DTEND;TZID=America/Denver:20250906T193000
DTSTAMP:20260423T213953
CREATED:20250810T155443Z
LAST-MODIFIED:20250905T140821Z
UID:10000371-1757167200-1757187000@svgd.org
SUMMARY:Colorado Dragon Boat Festival-Shift 2
DESCRIPTION:Colorado Dragon Boat Festival\, Sat. Sept. 6th\, 2PM-7:30PM\, 6 Volunteers are needed. SHIFT 2. (WE HAVE HAD A VOLUNTEER CANCELLATION SO STILL NEED 1 VOLUNTEER FOR THIS SHIFT!) We will be running a 2-day Pepsi products booth by the Band Stage that also has a view of the lake!  The event runs from 10AM-7PM so you can  come early to watch the races\, enjoy the entertainment\, taste food\, tour the market area & more!  This is their 25th year Anniversary!  They are expecting 200\,000 to people attend this 2-day event which is the largest of its kind in the nation celebrating the traditional Chinese holiday- this year is The Year of the Wood Snake Celebration that will showcase our many local Asian cultures.   It is held at Sloan’s Lake and has over almost 50 teams from across the world competing in the dragon boat race\, a performing arts stage\, an Asian market place\, a taste of Asian food court & more!!  We’ve helped them several times previously and always enjoyed the experience! 
URL:https://svgd.org/event/colorado-dragon-boat-festival-shift-2/
ORGANIZER;CN="SVGD":MAILTO:Event@svgd.org
END:VEVENT
END:VCALENDAR