BEGIN:VCALENDAR
VERSION:2.0
PRODID:-//Single Volunteers of Greater Denver - ECPv6.15.20//NONSGML v1.0//EN
CALSCALE:GREGORIAN
METHOD:PUBLISH
X-WR-CALNAME:Single Volunteers of Greater Denver
X-ORIGINAL-URL:https://svgd.org
X-WR-CALDESC:Events for Single Volunteers of Greater Denver
REFRESH-INTERVAL;VALUE=DURATION:PT1H
X-Robots-Tag:noindex
X-PUBLISHED-TTL:PT1H
BEGIN:VTIMEZONE
TZID:America/Denver
BEGIN:DAYLIGHT
TZOFFSETFROM:-0700
TZOFFSETTO:-0600
TZNAME:MDT
DTSTART:20240310T090000
END:DAYLIGHT
BEGIN:STANDARD
TZOFFSETFROM:-0600
TZOFFSETTO:-0700
TZNAME:MST
DTSTART:20241103T080000
END:STANDARD
BEGIN:DAYLIGHT
TZOFFSETFROM:-0700
TZOFFSETTO:-0600
TZNAME:MDT
DTSTART:20250309T090000
END:DAYLIGHT
BEGIN:STANDARD
TZOFFSETFROM:-0600
TZOFFSETTO:-0700
TZNAME:MST
DTSTART:20251102T080000
END:STANDARD
BEGIN:DAYLIGHT
TZOFFSETFROM:-0700
TZOFFSETTO:-0600
TZNAME:MDT
DTSTART:20260308T090000
END:DAYLIGHT
BEGIN:STANDARD
TZOFFSETFROM:-0600
TZOFFSETTO:-0700
TZNAME:MST
DTSTART:20261101T080000
END:STANDARD
END:VTIMEZONE
BEGIN:VEVENT
DTSTART;TZID=America/Denver:20250802T083000
DTEND;TZID=America/Denver:20250802T130000
DTSTAMP:20260423T231329
CREATED:20250720T150508Z
LAST-MODIFIED:20250801T161003Z
UID:10000367-1754123400-1754139600@svgd.org
SUMMARY:School Supply Distribution for Jeffco Action Center!
DESCRIPTION:School Supply Distribution for the Jeffco Action Center\, Sat. Aug 2nd\, 8:30AM-12:45PM\, 6 Volunteers are needed. We will be helping to staff the school supply distribution. We have helped them several times before and always enjoy the experience.  You will make an impact by helping low-income students be prepared and excited to start school. This will help approx. 5000 students in Jefferson County\,  which has the highest number of identified homeless students in Colorado\, over a 6-day distribution period.  We are divided into areas serving different age groups of children. Parents pick up backpacks for their children which are filled with appropriate school supplies.  Many families are having financial problems this year so we will definitely be making a positive difference for these school children!  We are doing a 2-day School Supply Distribution weekend on Saturday & Sunday in two different parts of town!
URL:https://svgd.org/event/school-supply-distribution-for-jeffco-action-center-3/
ORGANIZER;CN="SVGD":MAILTO:Event@svgd.org
END:VEVENT
END:VCALENDAR