BEGIN:VCALENDAR
VERSION:2.0
PRODID:-//Single Volunteers of Greater Denver - ECPv6.15.20//NONSGML v1.0//EN
CALSCALE:GREGORIAN
METHOD:PUBLISH
X-WR-CALNAME:Single Volunteers of Greater Denver
X-ORIGINAL-URL:https://svgd.org
X-WR-CALDESC:Events for Single Volunteers of Greater Denver
REFRESH-INTERVAL;VALUE=DURATION:PT1H
X-Robots-Tag:noindex
X-PUBLISHED-TTL:PT1H
BEGIN:VTIMEZONE
TZID:America/Denver
BEGIN:DAYLIGHT
TZOFFSETFROM:-0700
TZOFFSETTO:-0600
TZNAME:MDT
DTSTART:20240310T090000
END:DAYLIGHT
BEGIN:STANDARD
TZOFFSETFROM:-0600
TZOFFSETTO:-0700
TZNAME:MST
DTSTART:20241103T080000
END:STANDARD
BEGIN:DAYLIGHT
TZOFFSETFROM:-0700
TZOFFSETTO:-0600
TZNAME:MDT
DTSTART:20250309T090000
END:DAYLIGHT
BEGIN:STANDARD
TZOFFSETFROM:-0600
TZOFFSETTO:-0700
TZNAME:MST
DTSTART:20251102T080000
END:STANDARD
BEGIN:DAYLIGHT
TZOFFSETFROM:-0700
TZOFFSETTO:-0600
TZNAME:MDT
DTSTART:20260308T090000
END:DAYLIGHT
BEGIN:STANDARD
TZOFFSETFROM:-0600
TZOFFSETTO:-0700
TZNAME:MST
DTSTART:20261101T080000
END:STANDARD
END:VTIMEZONE
BEGIN:VEVENT
DTSTART;TZID=America/Denver:20250510T153000
DTEND;TZID=America/Denver:20250510T193000
DTSTAMP:20260424T051359
CREATED:20250427T162726Z
LAST-MODIFIED:20250508T033746Z
UID:10000356-1746891000-1746905400@svgd.org
SUMMARY:Postal Carriers- Stamp Out Hunger event + social!
DESCRIPTION:Postal Carriers-Stamp Out Hunger\, Sat. May 10\, 3:30-7:30PM\, 6 volunteers needed. (This event is now on Waiting List status.  If you sign up you will receive the automated response but will only be contacted with the details if there is a volunteer cancellation).The National Assn. of Letter Carriers is sponsoring an event throughout our Metro area where they will be picking up food donations along their carrier routes & will be bringing it back to their post offices.  We will be inside the docks at a Post Office (near Pecos/76th) to help unload and sort the food so trucks can take it back to the Action Center where it will be distributed to low-income families.   It is a very worthwhile event that will make quite a difference for low-income families!  After the event we are inviting the volunteers to have a social experience at a BBQ restaurant that is in the adjoining parking lot.  We helped at this event the  last couple years and enjoyed both the event & the social!
URL:https://svgd.org/event/postal-carriers-stamp-out-hunger-event-social-2/
ORGANIZER;CN="SVGD":MAILTO:Event@svgd.org
END:VEVENT
END:VCALENDAR