BEGIN:VCALENDAR
VERSION:2.0
PRODID:-//Single Volunteers of Greater Denver - ECPv6.15.20//NONSGML v1.0//EN
CALSCALE:GREGORIAN
METHOD:PUBLISH
X-ORIGINAL-URL:https://svgd.org
X-WR-CALDESC:Events for Single Volunteers of Greater Denver
REFRESH-INTERVAL;VALUE=DURATION:PT1H
X-Robots-Tag:noindex
X-PUBLISHED-TTL:PT1H
BEGIN:VTIMEZONE
TZID:America/Denver
BEGIN:DAYLIGHT
TZOFFSETFROM:-0700
TZOFFSETTO:-0600
TZNAME:MDT
DTSTART:20240310T090000
END:DAYLIGHT
BEGIN:STANDARD
TZOFFSETFROM:-0600
TZOFFSETTO:-0700
TZNAME:MST
DTSTART:20241103T080000
END:STANDARD
BEGIN:DAYLIGHT
TZOFFSETFROM:-0700
TZOFFSETTO:-0600
TZNAME:MDT
DTSTART:20250309T090000
END:DAYLIGHT
BEGIN:STANDARD
TZOFFSETFROM:-0600
TZOFFSETTO:-0700
TZNAME:MST
DTSTART:20251102T080000
END:STANDARD
BEGIN:DAYLIGHT
TZOFFSETFROM:-0700
TZOFFSETTO:-0600
TZNAME:MDT
DTSTART:20260308T090000
END:DAYLIGHT
BEGIN:STANDARD
TZOFFSETFROM:-0600
TZOFFSETTO:-0700
TZNAME:MST
DTSTART:20261101T080000
END:STANDARD
END:VTIMEZONE
BEGIN:VEVENT
DTSTART;TZID=America/Denver:20250412T110000
DTEND;TZID=America/Denver:20250412T150000
DTSTAMP:20260424T081852
CREATED:20250323T170019Z
LAST-MODIFIED:20250323T170532Z
UID:10000353-1744455600-1744470000@svgd.org
SUMMARY:Help Low-Income Girls get FREE Prom Dresses-PM shift at Bella Boutique!
DESCRIPTION:Help Low-Income Girls get FREE Prom Dresses at Bella Boutique\, Sat. April 12th\, 11:00AM-3PM\, 6 Volunteers are needed.  We will be Personal Shoppers who are each matched with a high school student.  Together each volunteer will help them shop the racks to find the perfect look for their prom.  Once the student has selected a dress\, you may shop together for shoes and accessories.  Bella Boutique helps low-income students so that they do not look “low income” and are able to attend their prom\, which is such an important event at their age.  We will receive training on the layout of the store so we know where everything is and will all wear black so the students are the focus while having the shopping experience.  This event is in SW Denver.  This is a very worthy non profit that stresses:  “Equity\, dignity\, inclusion — it matters!”  We have helped them several times and our volunteers always love this event!
URL:https://svgd.org/event/help-low-income-girls-get-free-prom-dresses-pm-shift-at-bella-boutique/
ORGANIZER;CN="SVGD":MAILTO:Event@svgd.org
END:VEVENT
END:VCALENDAR