BEGIN:VCALENDAR
VERSION:2.0
PRODID:-//Single Volunteers of Greater Denver - ECPv6.15.20//NONSGML v1.0//EN
CALSCALE:GREGORIAN
METHOD:PUBLISH
X-ORIGINAL-URL:https://svgd.org
X-WR-CALDESC:Events for Single Volunteers of Greater Denver
REFRESH-INTERVAL;VALUE=DURATION:PT1H
X-Robots-Tag:noindex
X-PUBLISHED-TTL:PT1H
BEGIN:VTIMEZONE
TZID:America/Denver
BEGIN:DAYLIGHT
TZOFFSETFROM:-0700
TZOFFSETTO:-0600
TZNAME:MDT
DTSTART:20240310T090000
END:DAYLIGHT
BEGIN:STANDARD
TZOFFSETFROM:-0600
TZOFFSETTO:-0700
TZNAME:MST
DTSTART:20241103T080000
END:STANDARD
BEGIN:DAYLIGHT
TZOFFSETFROM:-0700
TZOFFSETTO:-0600
TZNAME:MDT
DTSTART:20250309T090000
END:DAYLIGHT
BEGIN:STANDARD
TZOFFSETFROM:-0600
TZOFFSETTO:-0700
TZNAME:MST
DTSTART:20251102T080000
END:STANDARD
BEGIN:DAYLIGHT
TZOFFSETFROM:-0700
TZOFFSETTO:-0600
TZNAME:MDT
DTSTART:20260308T090000
END:DAYLIGHT
BEGIN:STANDARD
TZOFFSETFROM:-0600
TZOFFSETTO:-0700
TZNAME:MST
DTSTART:20261101T080000
END:STANDARD
END:VTIMEZONE
BEGIN:VEVENT
DTSTART;TZID=America/Denver:20250409T173000
DTEND;TZID=America/Denver:20250409T200000
DTSTAMP:20260424T094944
CREATED:20250316T152413Z
LAST-MODIFIED:20250325T164406Z
UID:10000350-1744219800-1744228800@svgd.org
SUMMARY:Food Bag Making/Helping at Food Market for Metro Caring!
DESCRIPTION:Food Bag Making/Helping at Food Market for Metro Caring\, Wed. April 9th\, 5:30-8PM\, 6-10 Volunteers are needed. (This event is now on Waiting List status. If you sign up you will receive the automated responses but will only be contacted with the details if there is a volunteer cancellation.) We will be packing and organizing home-delivery food bag orders that are delivered (not by us) to community members who are unable to come to the facility many because of medical issues\, will help with received food donations\, & may help in their attached food market which is like a grocery store.  Metro Caring relieves hunger while also addressing the root causes of that hunger.  The event will be in Central Denver.  There is free parking next to the building.  This worthy non profit which last year distributed over 2+ million pounds of nutritious food to hungry families & individuals while also providing education and tools to help participants improve their health and reach their potential. 
URL:https://svgd.org/event/food-bag-making-helping-at-food-market-for-metro-caring/
ORGANIZER;CN="SVGD":MAILTO:Event@svgd.org
END:VEVENT
END:VCALENDAR