BEGIN:VCALENDAR
VERSION:2.0
PRODID:-//Single Volunteers of Greater Denver - ECPv6.15.20//NONSGML v1.0//EN
CALSCALE:GREGORIAN
METHOD:PUBLISH
X-ORIGINAL-URL:https://svgd.org
X-WR-CALDESC:Events for Single Volunteers of Greater Denver
REFRESH-INTERVAL;VALUE=DURATION:PT1H
X-Robots-Tag:noindex
X-PUBLISHED-TTL:PT1H
BEGIN:VTIMEZONE
TZID:America/Denver
BEGIN:DAYLIGHT
TZOFFSETFROM:-0700
TZOFFSETTO:-0600
TZNAME:MDT
DTSTART:20240310T090000
END:DAYLIGHT
BEGIN:STANDARD
TZOFFSETFROM:-0600
TZOFFSETTO:-0700
TZNAME:MST
DTSTART:20241103T080000
END:STANDARD
BEGIN:DAYLIGHT
TZOFFSETFROM:-0700
TZOFFSETTO:-0600
TZNAME:MDT
DTSTART:20250309T090000
END:DAYLIGHT
BEGIN:STANDARD
TZOFFSETFROM:-0600
TZOFFSETTO:-0700
TZNAME:MST
DTSTART:20251102T080000
END:STANDARD
BEGIN:DAYLIGHT
TZOFFSETFROM:-0700
TZOFFSETTO:-0600
TZNAME:MDT
DTSTART:20260308T090000
END:DAYLIGHT
BEGIN:STANDARD
TZOFFSETFROM:-0600
TZOFFSETTO:-0700
TZNAME:MST
DTSTART:20261101T080000
END:STANDARD
END:VTIMEZONE
BEGIN:VEVENT
DTSTART;TZID=America/Denver:20250208T160000
DTEND;TZID=America/Denver:20250208T220000
DTSTAMP:20260424T123936
CREATED:20250120T204337Z
LAST-MODIFIED:20250126T220227Z
UID:10000345-1739030400-1739052000@svgd.org
SUMMARY:Affair for Air Gala benefiting the American Lung Assn.
DESCRIPTION:Affair for Air Gala benefiting the American Lung Assn.\, Sat. February 8th\, 4-10PM\, 6 Volunteers are needed. (This event is now on Waiting List status.  If you register you will receive the automated response but will only receive the event details if we have a volunteer cancellation.)  We will primarily be helping with Check/In & Registration\,  with the Whiskey or Wine Pull\, & with Check Out. This event will be held at the Downtown Opera House.  It should be a magical evening. We will be provided dinner and will get to enjoy the event!  They are having a cocktail reception & silent auction at the beginning; then a dinner\, program & live auction; followed by dancing and entertainment.  This is one of the type of events where we can help a good cause while also having a great meal and a good time!  The American Lung Assn. supports Coloradans living with lung disease\, including those who have been affected by COVID-19.
URL:https://svgd.org/event/affair-for-air-gala-benefiting-the-american-lung-assn-3/
ORGANIZER;CN="SVGD":MAILTO:Event@svgd.org
END:VEVENT
END:VCALENDAR