BEGIN:VCALENDAR
VERSION:2.0
PRODID:-//Single Volunteers of Greater Denver - ECPv6.15.20//NONSGML v1.0//EN
CALSCALE:GREGORIAN
METHOD:PUBLISH
X-WR-CALNAME:Single Volunteers of Greater Denver
X-ORIGINAL-URL:https://svgd.org
X-WR-CALDESC:Events for Single Volunteers of Greater Denver
REFRESH-INTERVAL;VALUE=DURATION:PT1H
X-Robots-Tag:noindex
X-PUBLISHED-TTL:PT1H
BEGIN:VTIMEZONE
TZID:America/Denver
BEGIN:DAYLIGHT
TZOFFSETFROM:-0700
TZOFFSETTO:-0600
TZNAME:MDT
DTSTART:20230312T090000
END:DAYLIGHT
BEGIN:STANDARD
TZOFFSETFROM:-0600
TZOFFSETTO:-0700
TZNAME:MST
DTSTART:20231105T080000
END:STANDARD
BEGIN:DAYLIGHT
TZOFFSETFROM:-0700
TZOFFSETTO:-0600
TZNAME:MDT
DTSTART:20240310T090000
END:DAYLIGHT
BEGIN:STANDARD
TZOFFSETFROM:-0600
TZOFFSETTO:-0700
TZNAME:MST
DTSTART:20241103T080000
END:STANDARD
BEGIN:DAYLIGHT
TZOFFSETFROM:-0700
TZOFFSETTO:-0600
TZNAME:MDT
DTSTART:20250309T090000
END:DAYLIGHT
BEGIN:STANDARD
TZOFFSETFROM:-0600
TZOFFSETTO:-0700
TZNAME:MST
DTSTART:20251102T080000
END:STANDARD
END:VTIMEZONE
BEGIN:VEVENT
DTSTART;TZID=America/Denver:20240309T160000
DTEND;TZID=America/Denver:20240309T213000
DTSTAMP:20260425T064829
CREATED:20240224T173133Z
LAST-MODIFIED:20240229T180234Z
UID:10000250-1710000000-1710019800@svgd.org
SUMMARY:Affair for Air Gala benefiting the American Lung Assn.!
DESCRIPTION:Affair for Air Gala benefiting the American Lung Assn.\, Sat. March 9th\, 4-9:45PM\, 7 Volunteers are needed. (This event is now on Waiting List status.  If you sign up you will receive the automated responses but will only be contacted with the details if there is a volunteer cancellation.)  We will primarily be helping with Check/In & Registration\, as Silent Auction Assistants\, & with Check Out. This event will be held at the Downtown Westin Hotel.  It should be a magical evening. We will be provided dinner!  They are having a cocktail reception & silent auction at the beginning; then a dinner\, program & live auction; followed by dancing and entertainment.  This is one of the type of events where we can help a good cause while also having a great meal and a good time!  The American Lung Assn. supports Coloradans living with lung disease\, including those who have been affected by COVID-19.
URL:https://svgd.org/event/affair-for-air-gala-benefiting-the-american-lung-assn-2/
ORGANIZER;CN="SVGD":MAILTO:Event@svgd.org
END:VEVENT
END:VCALENDAR