BEGIN:VCALENDAR
VERSION:2.0
PRODID:-//Single Volunteers of Greater Denver - ECPv6.15.20//NONSGML v1.0//EN
CALSCALE:GREGORIAN
METHOD:PUBLISH
X-ORIGINAL-URL:https://svgd.org
X-WR-CALDESC:Events for Single Volunteers of Greater Denver
REFRESH-INTERVAL;VALUE=DURATION:PT1H
X-Robots-Tag:noindex
X-PUBLISHED-TTL:PT1H
BEGIN:VTIMEZONE
TZID:America/Denver
BEGIN:DAYLIGHT
TZOFFSETFROM:-0700
TZOFFSETTO:-0600
TZNAME:MDT
DTSTART:20230312T090000
END:DAYLIGHT
BEGIN:STANDARD
TZOFFSETFROM:-0600
TZOFFSETTO:-0700
TZNAME:MST
DTSTART:20231105T080000
END:STANDARD
BEGIN:DAYLIGHT
TZOFFSETFROM:-0700
TZOFFSETTO:-0600
TZNAME:MDT
DTSTART:20240310T090000
END:DAYLIGHT
BEGIN:STANDARD
TZOFFSETFROM:-0600
TZOFFSETTO:-0700
TZNAME:MST
DTSTART:20241103T080000
END:STANDARD
BEGIN:DAYLIGHT
TZOFFSETFROM:-0700
TZOFFSETTO:-0600
TZNAME:MDT
DTSTART:20250309T090000
END:DAYLIGHT
BEGIN:STANDARD
TZOFFSETFROM:-0600
TZOFFSETTO:-0700
TZNAME:MST
DTSTART:20251102T080000
END:STANDARD
END:VTIMEZONE
BEGIN:VEVENT
DTSTART;TZID=America/Denver:20240215T170000
DTEND;TZID=America/Denver:20240215T190000
DTSTAMP:20260425T082706
CREATED:20240202T164102Z
LAST-MODIFIED:20240214T213531Z
UID:10000246-1708016400-1708023600@svgd.org
SUMMARY:Serving Dinner at The Crossing transitional shelter!
DESCRIPTION:Serving Dinner at The Crossing transitional shelter\, Thurs. Feb. 15th\, 5PM-7PM\, 5 volunteers are needed. Many of our volunteers request this event because they enjoy it and feel that it is such a worthwhile organization.  The Crossing is a transitional facility between the homeless shelter and getting back into a home.  The residents are working and saving up for a place to live.  It is drug & alcohol free.  Men\, women & children reside there.  It provides a great service as people work to get back on their feet. Our volunteers will help serve in the buffet line and may help with some of the meal bags for those who come back from work after dinner time.  After we serve dinner we will have an opportunity to eat as a group and also enjoy the meal before we leave at 7PM.  We will be behind the counter & plexi-glass when serving food and there are sinks for handwashing and sanitizer.
URL:https://svgd.org/event/serving-dinner-at-the-crossing-transitional-shelter-15/
ORGANIZER;CN="SVGD":MAILTO:Event@svgd.org
END:VEVENT
END:VCALENDAR