BEGIN:VCALENDAR
VERSION:2.0
PRODID:-//Single Volunteers of Greater Denver - ECPv6.15.20//NONSGML v1.0//EN
CALSCALE:GREGORIAN
METHOD:PUBLISH
X-WR-CALNAME:Single Volunteers of Greater Denver
X-ORIGINAL-URL:https://svgd.org
X-WR-CALDESC:Events for Single Volunteers of Greater Denver
REFRESH-INTERVAL;VALUE=DURATION:PT1H
X-Robots-Tag:noindex
X-PUBLISHED-TTL:PT1H
BEGIN:VTIMEZONE
TZID:America/Denver
BEGIN:DAYLIGHT
TZOFFSETFROM:-0700
TZOFFSETTO:-0600
TZNAME:MDT
DTSTART:20230312T090000
END:DAYLIGHT
BEGIN:STANDARD
TZOFFSETFROM:-0600
TZOFFSETTO:-0700
TZNAME:MST
DTSTART:20231105T080000
END:STANDARD
BEGIN:DAYLIGHT
TZOFFSETFROM:-0700
TZOFFSETTO:-0600
TZNAME:MDT
DTSTART:20240310T090000
END:DAYLIGHT
BEGIN:STANDARD
TZOFFSETFROM:-0600
TZOFFSETTO:-0700
TZNAME:MST
DTSTART:20241103T080000
END:STANDARD
BEGIN:DAYLIGHT
TZOFFSETFROM:-0700
TZOFFSETTO:-0600
TZNAME:MDT
DTSTART:20250309T090000
END:DAYLIGHT
BEGIN:STANDARD
TZOFFSETFROM:-0600
TZOFFSETTO:-0700
TZNAME:MST
DTSTART:20251102T080000
END:STANDARD
END:VTIMEZONE
BEGIN:VEVENT
DTSTART;TZID=America/Denver:20240118T173000
DTEND;TZID=America/Denver:20240118T193000
DTSTAMP:20260425T100030
CREATED:20240106T172517Z
LAST-MODIFIED:20240106T172517Z
UID:10000238-1705599000-1705606200@svgd.org
SUMMARY:2024 SVGD Annual Meeting!
DESCRIPTION:2024 SVGD Annual Meeting\, Thurs.\, Jan. 18th\, 5:30-7:30PM.  We will order dinner for all attendees at 6PM. At the meeting we will go over the year of 2023 as it relates to our events\, treasury\, etc. & will elect our 2024 Board of Directors\,   We will also have a group discussion re: the upcoming year of 2024.  We are excited to have a great upcoming year with fun & worthwhile events!  All paid SVGD members who joined by Dec. 18th\, 2023\, are allowed to vote.   I had to look to find a good location as many of the non-profit centers & meeting places are still closed.  The event will be held at a restaurant that is near Broadway/Alameda as we did last year.  The exact address will be given after you register. Please register as soon as you can so I can let the restaurant know how many people to expect.  If you wish to vote but cannot attend please contact Kayla Okafor at 303-455-0244 or director@svgd.org to get a ballot so you can vote prior to the meeting. 
URL:https://svgd.org/event/2024-svgd-annual-meeting/
ORGANIZER;CN="SVGD":MAILTO:Event@svgd.org
END:VEVENT
END:VCALENDAR