BEGIN:VCALENDAR
VERSION:2.0
PRODID:-//Single Volunteers of Greater Denver - ECPv6.15.20//NONSGML v1.0//EN
CALSCALE:GREGORIAN
METHOD:PUBLISH
X-WR-CALNAME:Single Volunteers of Greater Denver
X-ORIGINAL-URL:https://svgd.org
X-WR-CALDESC:Events for Single Volunteers of Greater Denver
REFRESH-INTERVAL;VALUE=DURATION:PT1H
X-Robots-Tag:noindex
X-PUBLISHED-TTL:PT1H
BEGIN:VTIMEZONE
TZID:America/Denver
BEGIN:DAYLIGHT
TZOFFSETFROM:-0700
TZOFFSETTO:-0600
TZNAME:MDT
DTSTART:20220313T090000
END:DAYLIGHT
BEGIN:STANDARD
TZOFFSETFROM:-0600
TZOFFSETTO:-0700
TZNAME:MST
DTSTART:20221106T080000
END:STANDARD
BEGIN:DAYLIGHT
TZOFFSETFROM:-0700
TZOFFSETTO:-0600
TZNAME:MDT
DTSTART:20230312T090000
END:DAYLIGHT
BEGIN:STANDARD
TZOFFSETFROM:-0600
TZOFFSETTO:-0700
TZNAME:MST
DTSTART:20231105T080000
END:STANDARD
BEGIN:DAYLIGHT
TZOFFSETFROM:-0700
TZOFFSETTO:-0600
TZNAME:MDT
DTSTART:20240310T090000
END:DAYLIGHT
BEGIN:STANDARD
TZOFFSETFROM:-0600
TZOFFSETTO:-0700
TZNAME:MST
DTSTART:20241103T080000
END:STANDARD
END:VTIMEZONE
BEGIN:VEVENT
DTSTART;TZID=America/Denver:20231021T183000
DTEND;TZID=America/Denver:20231021T213000
DTSTAMP:20260425T180430
CREATED:20231005T144546Z
LAST-MODIFIED:20231005T144546Z
UID:10000307-1697913000-1697923800@svgd.org
SUMMARY:Black Cat Ball benefiting The Feline Fix!
DESCRIPTION:Black Cat Ball benefiting The Feline Fix\, Sat. Oct. 21. 6:45-9:30PM\, 4 volunteers are needed.  We will be helping as greeters at the entrance & with handing out the winnings.  The event will be held at the Denver Art Museum. There will be live music & you can wear a costume (no masks nor face paint).  It is a Epic Halloween Party like no other!  The Feline Fix is Colorado’s leading spay/neuter source for free-roaming “community cats” & a significant provider of quality & affordable spay/neuter services for pet cats. To date\, they have spayed/neutered over 49\,000 cats at their clinic!
URL:https://svgd.org/event/black-cat-ball-benefiting-the-feline-fix/
ORGANIZER;CN="SVGD":MAILTO:Event@svgd.org
END:VEVENT
END:VCALENDAR