BEGIN:VCALENDAR
VERSION:2.0
PRODID:-//Single Volunteers of Greater Denver - ECPv6.15.20//NONSGML v1.0//EN
CALSCALE:GREGORIAN
METHOD:PUBLISH
X-WR-CALNAME:Single Volunteers of Greater Denver
X-ORIGINAL-URL:https://svgd.org
X-WR-CALDESC:Events for Single Volunteers of Greater Denver
REFRESH-INTERVAL;VALUE=DURATION:PT1H
X-Robots-Tag:noindex
X-PUBLISHED-TTL:PT1H
BEGIN:VTIMEZONE
TZID:America/Denver
BEGIN:DAYLIGHT
TZOFFSETFROM:-0700
TZOFFSETTO:-0600
TZNAME:MDT
DTSTART:20220313T090000
END:DAYLIGHT
BEGIN:STANDARD
TZOFFSETFROM:-0600
TZOFFSETTO:-0700
TZNAME:MST
DTSTART:20221106T080000
END:STANDARD
BEGIN:DAYLIGHT
TZOFFSETFROM:-0700
TZOFFSETTO:-0600
TZNAME:MDT
DTSTART:20230312T090000
END:DAYLIGHT
BEGIN:STANDARD
TZOFFSETFROM:-0600
TZOFFSETTO:-0700
TZNAME:MST
DTSTART:20231105T080000
END:STANDARD
BEGIN:DAYLIGHT
TZOFFSETFROM:-0700
TZOFFSETTO:-0600
TZNAME:MDT
DTSTART:20240310T090000
END:DAYLIGHT
BEGIN:STANDARD
TZOFFSETFROM:-0600
TZOFFSETTO:-0700
TZNAME:MST
DTSTART:20241103T080000
END:STANDARD
END:VTIMEZONE
BEGIN:VEVENT
DTSTART;TZID=America/Denver:20231014T180000
DTEND;TZID=America/Denver:20231014T223000
DTSTAMP:20260425T180317
CREATED:20230921T151002Z
LAST-MODIFIED:20231009T220315Z
UID:10000306-1697306400-1697322600@svgd.org
SUMMARY:"Mission Possible" Gala benefiting Ray of Hope Cancer Foundation!
DESCRIPTION:“Mission Possible” Gala benefiting Ray of Hope\, Sat.Oct.14\, 6-10:30PM\, 10 Volunteers are needed.  (This event is now on Waiting List status.  If you sign up you will receive the automated responses but will only be contacted with the details if we get a volunteer cancellation.) We will be helping with check in/check out\, assigning paddle numbers\, explaining activities etc. We may also help at the Auction Table.  The Ray of Hope Cancer Foundation responds to the urgent needs of Coloradans with cancer by providing financial assistance with dignity and humanity. They say that “no one should have to chose between cancer treatment & a home to live in”. This is their signature fundraising event that raises over $100\,000 annually for Colorado cancer patients in need.  There will be food\, drink\, spectacular entertainment\, a live auction\, and a silent auction.  The event will be held at the Infinity Park Event Center in Glendale.  We had a great time helping this fantastic organization last year!
URL:https://svgd.org/event/mission-possible-gala-benefiting-ray-of-hope-cancer-foundation/
ORGANIZER;CN="SVGD":MAILTO:Event@svgd.org
END:VEVENT
END:VCALENDAR