BEGIN:VCALENDAR
VERSION:2.0
PRODID:-//Single Volunteers of Greater Denver - ECPv6.15.20//NONSGML v1.0//EN
CALSCALE:GREGORIAN
METHOD:PUBLISH
X-ORIGINAL-URL:https://svgd.org
X-WR-CALDESC:Events for Single Volunteers of Greater Denver
REFRESH-INTERVAL;VALUE=DURATION:PT1H
X-Robots-Tag:noindex
X-PUBLISHED-TTL:PT1H
BEGIN:VTIMEZONE
TZID:America/Denver
BEGIN:DAYLIGHT
TZOFFSETFROM:-0700
TZOFFSETTO:-0600
TZNAME:MDT
DTSTART:20220313T090000
END:DAYLIGHT
BEGIN:STANDARD
TZOFFSETFROM:-0600
TZOFFSETTO:-0700
TZNAME:MST
DTSTART:20221106T080000
END:STANDARD
BEGIN:DAYLIGHT
TZOFFSETFROM:-0700
TZOFFSETTO:-0600
TZNAME:MDT
DTSTART:20230312T090000
END:DAYLIGHT
BEGIN:STANDARD
TZOFFSETFROM:-0600
TZOFFSETTO:-0700
TZNAME:MST
DTSTART:20231105T080000
END:STANDARD
BEGIN:DAYLIGHT
TZOFFSETFROM:-0700
TZOFFSETTO:-0600
TZNAME:MDT
DTSTART:20240310T090000
END:DAYLIGHT
BEGIN:STANDARD
TZOFFSETFROM:-0600
TZOFFSETTO:-0700
TZNAME:MST
DTSTART:20241103T080000
END:STANDARD
END:VTIMEZONE
BEGIN:VEVENT
DTSTART;TZID=America/Denver:20230722T140000
DTEND;TZID=America/Denver:20230722T180000
DTSTAMP:20260425T222214
CREATED:20230709T164118Z
LAST-MODIFIED:20230716T202609Z
UID:10000299-1690034400-1690048800@svgd.org
SUMMARY:Colorado Dragon Boat Festival!
DESCRIPTION:Colorado Dragon Boat Festival\, Sat. July 22nd\, 2-6PM\, 6 Volunteers are needed. (This event is now on Waiting List status. If you sign up you will receive the automated responses but will only be contacted with the details if we have a volunteer cancellation). We will be helping by the docks in the  Racing area so will get to see the races!  They are expecting 170\,000 people attend this 2-day event which is the largest of its kind in the nation celebrating the traditional Chinese holiday- this year is The Year of the Water Rabbit Celebration & promoting contemporary cultural integration between the diverse Asian Pacific American (APA) communities.   It is held at Sloan’s Lake and has over 40 teams from across the world competing in the dragon boat race\, a performing arts stage\, an Asian market place\, a taste of Asian food court & more!!  The Festival is open at 10AM so you can come prior to our shift for free free to watch some of the performances and races\, tour the market area & eat some great food if you’d like.  We’ve helped them several times previously and always enjoyed the experience!
URL:https://svgd.org/event/colorado-dragon-boat-festival-2/
ORGANIZER;CN="SVGD":MAILTO:Event@svgd.org
END:VEVENT
END:VCALENDAR