BEGIN:VCALENDAR
VERSION:2.0
PRODID:-//Single Volunteers of Greater Denver - ECPv6.15.20//NONSGML v1.0//EN
CALSCALE:GREGORIAN
METHOD:PUBLISH
X-ORIGINAL-URL:https://svgd.org
X-WR-CALDESC:Events for Single Volunteers of Greater Denver
REFRESH-INTERVAL;VALUE=DURATION:PT1H
X-Robots-Tag:noindex
X-PUBLISHED-TTL:PT1H
BEGIN:VTIMEZONE
TZID:America/Denver
BEGIN:DAYLIGHT
TZOFFSETFROM:-0700
TZOFFSETTO:-0600
TZNAME:MDT
DTSTART:20220313T090000
END:DAYLIGHT
BEGIN:STANDARD
TZOFFSETFROM:-0600
TZOFFSETTO:-0700
TZNAME:MST
DTSTART:20221106T080000
END:STANDARD
BEGIN:DAYLIGHT
TZOFFSETFROM:-0700
TZOFFSETTO:-0600
TZNAME:MDT
DTSTART:20230312T090000
END:DAYLIGHT
BEGIN:STANDARD
TZOFFSETFROM:-0600
TZOFFSETTO:-0700
TZNAME:MST
DTSTART:20231105T080000
END:STANDARD
BEGIN:DAYLIGHT
TZOFFSETFROM:-0700
TZOFFSETTO:-0600
TZNAME:MDT
DTSTART:20240310T090000
END:DAYLIGHT
BEGIN:STANDARD
TZOFFSETFROM:-0600
TZOFFSETTO:-0700
TZNAME:MST
DTSTART:20241103T080000
END:STANDARD
END:VTIMEZONE
BEGIN:VEVENT
DTSTART;TZID=America/Denver:20230708T150000
DTEND;TZID=America/Denver:20230708T180000
DTSTAMP:20260425T222213
CREATED:20230626T163636Z
LAST-MODIFIED:20230703T191907Z
UID:10000297-1688828400-1688839200@svgd.org
SUMMARY:CROSSCURRENTS River Festival benefiting The Greenway Foundation!
DESCRIPTION:CROSSCURRENTS River Festival benefiting The Greenway Foundation\, 3-6PM Sat. July 8th\, 6 volunteers are needed. (This event is now on Waiting List status. If you sign up you will get the automated responses but will only be contacted with the details if we get a volunteer cancellation). The Crosscurrents Festival is in Confluence Park by the South Platte River.  We will be helping at the information/waiver booths helping with waivers\, raffle tickets\, & giving out general information. Since they have water activities and a kids zone with a rockclimbing wall we will help event attendees sign waivers\, get wristbands\, and navigate the event space.  Volunteers will receive either free drink tickets or a free meal from an onsite food truck. The event also has live music from two stages all day and lasts until 10:00PM so you can stay and enjoy the activities if you wish.  The Greenway Foundation advances a sustainable water future\, focusing primarily on Colorado & the western United States.
URL:https://svgd.org/event/crosscurrents-river-festival-benefiting-the-greenway-foundation-2/
ORGANIZER;CN="SVGD":MAILTO:Event@svgd.org
END:VEVENT
END:VCALENDAR